BEGIN:VCALENDAR
VERSION:2.0
PRODID:-//לימוד ותרגול בודהיזם טיבטי, שנטידווה FPMT ישראל - ECPv5.2.1//NONSGML v1.0//EN
CALSCALE:GREGORIAN
METHOD:PUBLISH
X-WR-CALNAME:לימוד ותרגול בודהיזם טיבטי, שנטידווה FPMT ישראל
X-ORIGINAL-URL:https://shantideva.org.il
X-WR-CALDESC:אירועים ל לימוד ותרגול בודהיזם טיבטי, שנטידווה FPMT ישראל
BEGIN:VTIMEZONE
TZID:Asia/Jerusalem
BEGIN:DAYLIGHT
TZOFFSETFROM:+0200
TZOFFSETTO:+0300
TZNAME:IDT
DTSTART:20260327T000000
END:DAYLIGHT
BEGIN:STANDARD
TZOFFSETFROM:+0300
TZOFFSETTO:+0200
TZNAME:IST
DTSTART:20261024T230000
END:STANDARD
END:VTIMEZONE
BEGIN:VEVENT
DTSTART;TZID=Asia/Jerusalem:20260307T103000
DTEND;TZID=Asia/Jerusalem:20260307T133000
DTSTAMP:20260423T185143
CREATED:20260130T103301Z
LAST-MODIFIED:20260130T103301Z
UID:4530-1772879400-1772890200@shantideva.org.il
SUMMARY:שלושה מפגשים לאִימוּן התודעה
DESCRIPTION:תוך צפייה משותפת בלימוד שהעניקה הנזירה היקרה לוזאנג יונטֶן  \n\n\n\nחברות וחברים יקרים לדרך\, \n\n\n\nבמהלך החודשים פברואר-מרץ  מתוכננים לנו שלושה מפגשים קבוצתיים כך שנוכל להמשיך ללמוד ולתרגל ביחד. הנושא מתכתב באופן הדוק עם הקורס שסיימנו זה עתה עם יעל אלטרץ ועם התכנים הנוגעים לאימון התודעה- Lojong ולהיאחזות ב"אני". \n\n\n\nהמפגשים יתקיימו ימי שבת ה- 14.2.2026 / 28.2 וה- 7.3 \n\n\n\nשעות: 10:30-13:30 \n\n\n\nמיקום יימסר לנרשמים.ות (אזור גוש דן)  \n\n\n\nהנזירה היקרה יונטן הינה מורה ותיקה ורהוטה שלשמחתנו הרַבָּה לימדה את הקבוצה פעמים רבות בעבר\, כאשר הגיעה ארצה כמורה אורחת של עמותת "רוח אדם". כאן תוכלו לקרוא עליה יותר. \n\n\n\nהיא מלמדת בשפה האנגלית באופן ברור ונגיש מאד את החומר. \n\n\n\nבסיועה של הנזירה יונטן נכיר מקרוב את אחד הטקסטים החשובים ביותר במסורת תרגולי Lojong -"שמונת הפסוקים לאימון התודעה". הפסוקים נכתבו במאה ה-11 ע"י מאסטר דוֹרְגֶ'ה סֶנְגֶה הידוע גם בשם לאנגרי טַנְגקפָּה (1054-1123). מורה הרוח היקר לאמה זופה רינפוצ'ה תרגם  את הפסוקים לאנגלית בשנת 1980\, במנזר קופאן.  \n\n\n\nעד למאה ה-10 לערך התקיימו תרגולי ה-Lojong תחת מעטה סודיות. מדובר בתרגולים שנחשבים לטובים מסוגם שתמצית מטרתם היא להיפטר כליל מההיאחזות ב"אני" ומההיקשרות ל"אני". לאמה אטישה (980-1054) הציג בזמנו לראשונה את התרגולים המסורתיים המהאייאנים המוכַּרים כ"Mind training" או "Thought transformation" בקרב הטיבטים. \n\n\n\nשמונת הפסוקים נוגעים בכל ההיבטים של הדרך להשגת הבודהיצ'יטה ובמוטיבציה הנכונה שנדרשת על מנת להתמיר את התודעה ולהביאה למצב של צלילות והארה. הטקסט נוגע בכל השלבים שבדרך: היפטרות מתפיסה מוטעית של ה״אני״\, פיתוח החמלה כלפי כל היצורים החשים\, ענווה\, הסרת הסבל של כל אימהותינו\, הסרת מחשבות פוגעניות\, התייחסות לקנאה ולשנאה ועוד. \n\n\n\nה"ק הדלאי לאמה סיפר לא פעם שעבורו הטקסט הזה הינו אחד ממקורות ההשראה הגדולים ביותר והוסיף שהוא עושה בו שימוש  במהלך תרגולי המדיטציה היומיים שלו. \n\n\n\nעל מנת שתוכלו לקבל מאיתנו חומרי קריאה\, טקסט בתרגום לעברית\, קישור לזום ועדכונים לגבי מיקום אנא הרשמו למפגשים בלחיצה כאן \n\n\n\n*במהלך המפגשים נאסוף דאנה עבור הנזירה היקרה לוזאנג יונטן ונעביר לה במרוכז דרך חשבון העמותה\, כדי לשמר את ההיזון ההדדי הנפלא שלנו איתה ושלה איתנו וכדי לאפשר לה להמשיך להפיץ את הדהרמה יקרת-הערך גם בעזרתנו\, בלב-פתוח ובנדיבות.
URL:https://shantideva.org.il/event/%d7%a9%d7%9c%d7%95%d7%a9%d7%94-%d7%9e%d7%a4%d7%92%d7%a9%d7%99%d7%9d-%d7%9c%d7%90%d6%b4%d7%99%d7%9e%d7%95%d6%bc%d7%9f-%d7%94%d7%aa%d7%95%d7%93%d7%a2%d7%94/2026-03-07
ATTACH;FMTTYPE=image/jpeg:https://shantideva.org.il/wp-content/uploads/2020/03/zopa_view.jpg
END:VEVENT
BEGIN:VEVENT
DTSTART;TZID=Asia/Jerusalem:20260320T100000
DTEND;TZID=Asia/Jerusalem:20260320T120000
DTSTAMP:20260423T185143
CREATED:20260316T195613Z
LAST-MODIFIED:20260319T184800Z
UID:4533-1774000800-1774008000@shantideva.org.il
SUMMARY:מפגשי שמאטה מקוונים עם פרנסואה שיק
DESCRIPTION:חברות וחברים יקרים לדרך\, \n\n\n\nהמלחמה שינתה את תוכניותנו ולצערנו הריטריט עם פרנסואה לא הצליח לצאת מהכוח אל הפועל. \n\n\n\nאנו כבר מכירים את טבע הסמסרה\, ויודעים שאינה מהימנה\, ולכן רוחנו לא נופלת. \n\n\n\nלא וויתרנו לגמרי על חדוות התרגול עם מורנו היקר. \n\n\n\nבסופ"ש הקרוב\, שישי שבת ה 20-21 במרץ\, נקיים שני מפגשי זום עם פרנסואה לתרגול ממוקד. \n\n\n\nהמפגשים יתקיימו בשעות 10:00-12:00 (כולל הפסקה קצרה באמצע). \n\n\n\nיהיה מפגש בוקר בשישי ומפגש בוקר בשבת. \n\n\n\nהמפגשים יוקלטו כמובן. \n\n\n\nבמפגשים אלו נרענן את טכניקות הריכוז של שמאטה בעזרת הנשימה\, ואז נשתמש במצב המרוכז והממוקד כדי לחקור את טבעה של התודעה עצמה. אותה איכות צלולה ויודעת של התודעה – שתמיד נוכחת\, אך רק לעיתים רחוקות מוכרת ומזוהה בזמן אמת. \n\n\n\nהחיבור לאיכות זו של התודעה\, לטבע היחסי שלה\, יעשה מנקודת מבט התנסותית\, דבר שיכול להוות שער לתהליך טרנספורמטיבי עמוק\, כאשר הדרך רוחנית מקבלת עומקים נוספים. \n\n\n\nכולם מוזמנים\, גם מי שלא נרשם לריטריט. \n\n\n\nנבקשכם להירשם מראש למפגשים\, כדי שנוכל לשלוח חומרי קריאה ועיון לכל הנוכחים. \n\n\n\nלהרשמה נא ללחוץ כאן \n\n\n\nהמפגשים מוענקים על בסיס דאנה- תרגול נדיבות הלב המאפשר לנו לקבל ולתת באופן הדדי ויפה כל-כך ולקדם את הפצת הדהרמה והלימוד יקר הערך. את הדאנה ניתן להעביר לפרנסואה/ יעל באמצעות פייפאל או באמצעות העברה בנקאית (נא לציין-עבור פרנסואה/ יעל): בנק הדואר (09) סניף 001/ שם העמותה: לימוד ותרגול מדיטטיבי/ מס' חשבון: 28512681 \n\n\n\nבהמשך למילוי טופס ההרשמה\, הנה הקישור לזום שישמש אותנו במהלך השישי-שבת: \n\n\n\nJoin Zoom Meeting \n\n\n\n\nhttps://us02web.zoom.us/j/83458061062\n\n\n\n\nMeeting ID: 834 5806 1062 \n\n\n\nPasscode: 123456 \n\n\n\nבתקווה לימים שקטים\, \n\n\n\nמחכים לראותכם כדי לתרגל יחד\, \n\n\n\nצוות שנטידווה\, יעל ופרנסואה.
URL:https://shantideva.org.il/event/4533/2026-03-20
ATTACH;FMTTYPE=image/jpeg:https://shantideva.org.il/wp-content/uploads/2025/12/sage-friedman-HS5CLnQbCOc-unsplash-scaled.jpg
END:VEVENT
BEGIN:VEVENT
DTSTART;TZID=Asia/Jerusalem:20260321T100000
DTEND;TZID=Asia/Jerusalem:20260321T120000
DTSTAMP:20260423T185143
CREATED:20260316T195613Z
LAST-MODIFIED:20260319T184829Z
UID:4536-1774087200-1774094400@shantideva.org.il
SUMMARY:מפגשי שמאטה מקוונים עם פרנסואה שיק
DESCRIPTION:חברות וחברים יקרים לדרך\, \n\n\n\nהמלחמה שינתה את תוכניותנו ולצערנו הריטריט עם פרנסואה לא הצליח לצאת מהכוח אל הפועל. \n\n\n\nאנו כבר מכירים את טבע הסמסרה\, ויודעים שאינה מהימנה\, ולכן רוחנו לא נופלת. \n\n\n\nלא וויתרנו לגמרי על חדוות התרגול עם מורנו היקר. \n\n\n\nבסופ"ש הקרוב\, שישי שבת ה 20-21 במרץ\, נקיים שני מפגשי זום עם פרנסואה לתרגול ממוקד. \n\n\n\nהמפגשים יתקיימו בשעות 10:00-12:00 (כולל הפסקה קצרה באמצע). \n\n\n\nיהיה מפגש בוקר בשישי ומפגש בוקר בשבת. \n\n\n\nהמפגשים יוקלטו כמובן. \n\n\n\nבמפגשים אלו נרענן את טכניקות הריכוז של שמאטה בעזרת הנשימה\, ואז נשתמש במצב המרוכז והממוקד כדי לחקור את טבעה של התודעה עצמה. אותה איכות צלולה ויודעת של התודעה – שתמיד נוכחת\, אך רק לעיתים רחוקות מוכרת ומזוהה בזמן אמת. \n\n\n\nהחיבור לאיכות זו של התודעה\, לטבע היחסי שלה\, יעשה מנקודת מבט התנסותית\, דבר שיכול להוות שער לתהליך טרנספורמטיבי עמוק\, כאשר הדרך רוחנית מקבלת עומקים נוספים. \n\n\n\nכולם מוזמנים\, גם מי שלא נרשם לריטריט. \n\n\n\nנבקשכם להירשם מראש למפגשים\, כדי שנוכל לשלוח חומרי קריאה ועיון לכל הנוכחים. \n\n\n\nלהרשמה נא ללחוץ כאן \n\n\n\nהמפגשים מוענקים על בסיס דאנה- תרגול נדיבות הלב המאפשר לנו לקבל ולתת באופן הדדי ויפה כל-כך ולקדם את הפצת הדהרמה והלימוד יקר הערך. את הדאנה ניתן להעביר לפרנסואה/ יעל באמצעות פייפאל או באמצעות העברה בנקאית (נא לציין-עבור פרנסואה/ יעל): בנק הדואר (09) סניף 001/ שם העמותה: לימוד ותרגול מדיטטיבי/ מס' חשבון: 28512681 \n\n\n\nבהמשך למילוי טופס ההרשמה\, הנה הקישור לזום שישמש אותנו במהלך השישי-שבת: \n\n\n\nJoin Zoom Meeting \n\n\n\n\nhttps://us02web.zoom.us/j/83458061062\n\n\n\n\nMeeting ID: 834 5806 1062 \n\n\n\nPasscode: 123456 \n\n\n\nבתקווה לימים שקטים\, \n\n\n\nמחכים לראותכם כדי לתרגל יחד\, \n\n\n\nצוות שנטידווה\, יעל ופרנסואה.
URL:https://shantideva.org.il/event/4533-2026-03-22
ATTACH;FMTTYPE=image/jpeg:https://shantideva.org.il/wp-content/uploads/2025/12/sage-friedman-HS5CLnQbCOc-unsplash-scaled.jpg
END:VEVENT
BEGIN:VEVENT
DTSTART;TZID=Asia/Jerusalem:20260331T193000
DTEND;TZID=Asia/Jerusalem:20260331T210000
DTSTAMP:20260423T185143
CREATED:20260323T180223Z
LAST-MODIFIED:20260402T190908Z
UID:4539-1774985400-1774990800@shantideva.org.il
SUMMARY:התמודדות עם קשיים באמצעות סבלנות ואורך-רוח בדרך שהתווה המלומד שנטידווה
DESCRIPTION:סדרת מפגשים מקוונים עם המורה יעל אלטרץ אחת לשבוע \n\n\n\nמתי? המפגש הראשון יתקיים ביום שלישי ה-31.3 (לפני ערב ליל הסדר) \n\n\n\nולאחר מכן ניפגש באופן קבוע בימי חמישי\, החל מה- 9.4 ואחכ' ה-16.4 וכן הלאה. \n\n\n\nשעות: 19:30-21:00 \n\n\n\nהמדריך לאורח חיי הבודהיסטווה\, טקסט של המלומד שנטידווה\, בן המאה התשיעית\, הוא טקסט מכונן בדרך המהיאנה. לאמה צונגקאפה ציטט ממנו פעמים רבות מספור\, בכתביו על הדרך המדורגת להארה. שהרי כל הדרך כולה מופיעה שם בבתי שיר פואטיים ומעוררי השראה. \n\n\n\nעדות לחשיבותו של הטקסט ניתן למצוא בעבודה שכבוד הדלאי לאמה לימד את הטקסט הזה במלואו 34 פעמים. יותר מכל טקסט אחר שלימד בחייו.  \n\n\n\nאנו בקבוצת שנטידווה FPMT ישראל כבר פגשנו בטקסט הזה בעבר\, לפני מספר שנים\, כאשר המורה המכובד לינג רינפוצ'ה המליץ לנו ללמוד אותו. כעת\, נחזור אליו שוב\, שהרי אין זה טקסט ללימוד פעם אחת בלבד. ככל שהידע שלנו עמוק ומבוסס יותר – נוכל להפיק מהטקסט הזה יותר. \n\n\n\nהפעם נחזור ספציפית לפרק 6 העוסק בשלמות הסבלנות (אורך-רוח).  \n\n\n\nמדוע דווקא לפרק זה? שַׁם שנטידווה מציע כלים להתמודדות עם קושי\, פגיעה\, כעס ואתגר. בעצם\, זהו המשך ישיר לעונה הקודמת שלנו\, בה עסקנו בהתמודדות עם קשיים בדרך הרוחנית. והעיסוק הזה ממשיך ללוות את חיינו כעת\, נוכח המציאות העוטפת אותנו. שלמות הסבלנות נוגעת ביכולת לשמור על תודעה שלווה ומאוזנת נוכח קשיים. היש דבר רלוונטי יותר לחיינו כעת? \n\n\n\nאת הטקסט הזה נלמד יחד עם יעל אלטרץ\, כאשר נזכה להסתמך על הטקסט בעברית\, הודות לתרגומו יוצא הדופן של הנזיר המכובד קארצון.  \n\n\n\nאנא הרשמו למפגשים על מנת שנוכל להעביר לכם חומרי לימוד במייל בצורה מסודרת. \n\n\n\nלהרשמה נא ללחוץ כאן. \n\n\n\nלתשומת ליבכם.ןמיום חמישי ה- 9.4 ואילך\, זה יהיה הקישור הקבוע: \n\n\n\nJoin Zoom Meeting https://us02web.zoom.us/j/82233152754 Meeting ID: 822 3315 2754 Passcode: 123456 \n\n\n\nנשמח מאד להיפגש\, להמשיך לחקור את הדרך יחד ולהמשיך להעמיק את הבנתנו בדרך ובאופן יישומה כך שתהווה עבורנו מקלט פנימי\, מקור הגנה מקשיי הסמסרה.  \n\n\n\nשלכם\, \n\n\n\nצוות קבוצת שנטידווה FPMT ויעל.המפגשים מוענקים על בסיס דאנה- תרגול נדיבות הלב המאפשר לנו לקבל ולתת באופן הדדי ויפה כל-כך ולקדם את הפצת הדהרמה והלימוד יקר הערך. את הדאנה ניתן להעביר ליעל באמצעות פייפאל או באמצעות העברה בנקאית (נא לציין-עבור יעל אלטרץ): בנק הדואר (09) סניף 001/ שם העמותה: לימוד ותרגול מדיטטיבי/ מס' חשבון: 28512681
URL:https://shantideva.org.il/event/%d7%94%d7%aa%d7%9e%d7%95%d7%93%d7%93%d7%95%d7%aa-%d7%a2%d7%9d-%d7%a7%d7%a9%d7%99%d7%99%d7%9d-%d7%91%d7%90%d7%9e%d7%a6%d7%a2%d7%95%d7%aa-%d7%a1%d7%91%d7%9c%d7%a0%d7%95%d7%aa-%d7%95%d7%90%d7%95%d7%a8/2026-03-31
ATTACH;FMTTYPE=image/png:https://shantideva.org.il/wp-content/uploads/2026/03/Screenshot-2026-03-23-at-20.01.14.png
END:VEVENT
END:VCALENDAR