BEGIN:VCALENDAR
VERSION:2.0
PRODID:-//לימוד ותרגול בודהיזם טיבטי, שנטידווה FPMT ישראל - ECPv5.2.1//NONSGML v1.0//EN
CALSCALE:GREGORIAN
METHOD:PUBLISH
X-WR-CALNAME:לימוד ותרגול בודהיזם טיבטי, שנטידווה FPMT ישראל
X-ORIGINAL-URL:https://shantideva.org.il
X-WR-CALDESC:אירועים ל לימוד ותרגול בודהיזם טיבטי, שנטידווה FPMT ישראל
BEGIN:VTIMEZONE
TZID:Asia/Jerusalem
BEGIN:DAYLIGHT
TZOFFSETFROM:+0200
TZOFFSETTO:+0300
TZNAME:IDT
DTSTART:20250328T000000
END:DAYLIGHT
BEGIN:STANDARD
TZOFFSETFROM:+0300
TZOFFSETTO:+0200
TZNAME:IST
DTSTART:20251025T230000
END:STANDARD
END:VTIMEZONE
BEGIN:VEVENT
DTSTART;TZID=Asia/Jerusalem:20251111T140000
DTEND;TZID=Asia/Jerusalem:20251111T210000
DTSTAMP:20260424T010222
CREATED:20250907T140348Z
LAST-MODIFIED:20251027T074829Z
UID:4375-1762869600-1762894800@shantideva.org.il
SUMMARY:לאבאב דוצ'ן -   Lha Bab Düchen
DESCRIPTION:בשמחה רבה נבשר שהנזירה היקרה אני לוסאנג שהגיעה לארץ כאורחת של עמותת "ידידי הדהרמה בישראל" נענתה להזמנה של קבוצתנו להנחות שלושה טקסי ריטואל בודהיסטיים. \n\n\n\nמורתנו אני לוסאנג תוביל אותנו ביום תרגול חגיגי לכבוד ה'לבאב דוצ'אן'\, היום בו הבודהה ירד חזרה מממלכת האל של השלושים ושלושה\, לאחר שחלק את הדהרמה עם האֵלים ועם אמו. \n\n\n\nיום חג זה כמו שאר החגים הבודהיסטים\, הוא יום שבו הפעולות הקארמיות חזקות פי מאה מיליון.\nעל פי עצתו של לאמה זופה רינפוצה\, זהו יום שבו קיימת הזדמנות מושלמת לעסוק ברצינות בתרגול שלנו ובכך להגביר את צבירת המריט שלנו. \n\n\n\nנתרגל בדירה של ניצן ואילאיל. שמעון התרסי 43 תל אביב.\n(קומה 2\, דירה 9 קוד 4343) לפרטים נוספים ניתן ליצור קשר עם ניצן 0547612167 \n\n\n\nבתכנון: \n\n\n\n7:00 (רק בזום) – לא פיזית – לקיחה משותפת של 8 נדרי המאיאנה\n\n\n\n14:00-14:30 – התכנסות והכנת האלטר במשותף\n14:30-15:30 – קריאת סוטרת "היזכרות בשלושת האבנים היקרות"+ דקלום 108 השמות של מנג'ושרי\n15:30-16:00 – הפסקה\n16:00-17:30 – קריאה בסוטרת Vajra Cutter Sutra\n17:30-18:00 – הפסקה\n18:00-21:00 – שאקימוני בודהה פוג'הה \n\n\n\nניתן להצטרף לתרגולים בכל שלב של היום לפי מנ שמתאים לכם.ן. ניתן להביא מנחות לאלטר. \n\n\n\nדאנה תנתן דרך האתר של ידידי הדהרמה   https://www.dharma-friends.org.il/dhana/   נא לציין שזה עבור אני לוסאנג. \n\n\n\nהתרגול יועבר גם בזום בלינק https://us02web.zoom.us/j/81567040249 עם הסיסמא 1234 \n\n\n\nאני לוסנג  – מורה מרתקת\, נזירה ממוצא שווצרי\, מלמדת ומנחה באנגלית את המתרגלים הישראלים מזה כ30 שנה.
URL:https://shantideva.org.il/event/%d7%9c%d7%90%d7%91%d7%90%d7%91-%d7%93%d7%95%d7%a6%d7%9f-lha-bab-duchen
CATEGORIES:אני לוסנג 2025
ATTACH;FMTTYPE=image/png:https://shantideva.org.il/wp-content/uploads/2025/09/Screenshot-2025-09-07-at-17.03.07.png
END:VEVENT
BEGIN:VEVENT
DTSTART;TZID=Asia/Jerusalem:20251114T093000
DTEND;TZID=Asia/Jerusalem:20251114T153000
DTSTAMP:20260424T010222
CREATED:20250930T132918Z
LAST-MODIFIED:20251020T065848Z
UID:4414-1763112600-1763134200@shantideva.org.il
SUMMARY:סופ"ש מרוכז (ללא לינה) של תרגול בהנחיית יעל אלטרץ בנושא: לקיחת קשיים אל הדרך הרוחנית
DESCRIPTION:תאריכים: שישי ושבת ה- 14-15.11.2025 \n\n\n\nשעות: 09:30-15:30 \n\n\n\nמיקום: נאות אפקה\, תל-אביב \n\n\n\n*נדרשת הרשמה \n\n\n\nבמהלך כל אחד משני ימי התרגול מציעה לנו המורה יעל אלטרץ 3 סשנים מלאים של תרגול ולימוד קטן\, במקביל להפסקות להתרעננות וכד'. כל סשן יכלול הרבה תרגול ומעט לימוד שיהווה בסיס להרהור האנליטי של השעה הבאה. \n\n\n\nהמדיטציות ינועו בטווח של 30-40 דקות. \n\n\n\nחלקן הראשון – מעולם השמאטה\, נתרגל טכניקות שלמדנו מעולם הריכוז; \n\n\n\nחלקן השני – הרהור אנַליטי על הנושא. \n\n\n\nכדי להטמיע את התרגול והלימוד נקדיש זמן גם לקבוצות דיון ולשיח. \n\n\n\n יעל בחרה עבורנו טעימות לימודיות מתוך סוטרת וִימַלָקִירְטִי\, כמקור להשראה וכבסיס להרהור האנליטי. \n\n\n\n על מנת להשתתף יש להירשם כאן \n\n\n\n למשתתפות ולמשתתפים ישלחו חומרי קריאה\, לו"ז מפורט\, כתובת וקישור להשתתפות בזום באופן מקוון אם לא מתאפשר להגיע באופן פיזי. \n\n\n\n המפגשים מוענקים על בסיס דאנה- תרגול נדיבות הלב המאפשר לנו לקבל ולתת באופן הדדי ויפה כל-כך. את הדאנה ניתן להעביר ליעל באמצעות פייפאל או באמצעות העברה בנקאית (נא לציין-עבור יעל אלטרץ): בנק הדואר (09) סניף 001/ שם העמותה: לימוד ותרגול מדיטטיבי/ מס' חשבון: 28512681 \n\n\n\nמחכים לראותכם\, \n\n\n\nצוות שנטידווה ויעל אלטרץ
URL:https://shantideva.org.il/event/%d7%a1%d7%95%d7%a4%d7%a9-%d7%9e%d7%a8%d7%95%d7%9b%d7%96-%d7%9c%d7%9c%d7%90-%d7%9c%d7%99%d7%a0%d7%94-%d7%a9%d7%9c-%d7%aa%d7%a8%d7%92%d7%95%d7%9c-%d7%91%d7%94%d7%a0%d7%97%d7%99%d7%99%d7%aa-%d7%99/2025-11-14
ATTACH;FMTTYPE=image/png:https://shantideva.org.il/wp-content/uploads/2025/09/Screenshot-2025-09-30-at-16.28.36.png
END:VEVENT
BEGIN:VEVENT
DTSTART;TZID=Asia/Jerusalem:20251115T093000
DTEND;TZID=Asia/Jerusalem:20251115T153000
DTSTAMP:20260424T010222
CREATED:20250930T132918Z
LAST-MODIFIED:20251020T065847Z
UID:4427-1763199000-1763220600@shantideva.org.il
SUMMARY:סופ"ש מרוכז (ללא לינה) של תרגול בהנחיית יעל אלטרץ בנושא: לקיחת קשיים אל הדרך הרוחנית
DESCRIPTION:תאריכים: שישי ושבת ה- 14-15.11.2025 \n\n\n\nשעות: 09:30-15:30 \n\n\n\nמיקום: נאות אפקה\, תל-אביב \n\n\n\n*נדרשת הרשמה \n\n\n\nבמהלך כל אחד משני ימי התרגול מציעה לנו המורה יעל אלטרץ 3 סשנים מלאים של תרגול ולימוד קטן\, במקביל להפסקות להתרעננות וכד'. כל סשן יכלול הרבה תרגול ומעט לימוד שיהווה בסיס להרהור האנליטי של השעה הבאה. \n\n\n\nהמדיטציות ינועו בטווח של 30-40 דקות. \n\n\n\nחלקן הראשון – מעולם השמאטה\, נתרגל טכניקות שלמדנו מעולם הריכוז; \n\n\n\nחלקן השני – הרהור אנַליטי על הנושא. \n\n\n\nכדי להטמיע את התרגול והלימוד נקדיש זמן גם לקבוצות דיון ולשיח. \n\n\n\n יעל בחרה עבורנו טעימות לימודיות מתוך סוטרת וִימַלָקִירְטִי\, כמקור להשראה וכבסיס להרהור האנליטי. \n\n\n\n על מנת להשתתף יש להירשם כאן \n\n\n\n למשתתפות ולמשתתפים ישלחו חומרי קריאה\, לו"ז מפורט\, כתובת וקישור להשתתפות בזום באופן מקוון אם לא מתאפשר להגיע באופן פיזי. \n\n\n\n המפגשים מוענקים על בסיס דאנה- תרגול נדיבות הלב המאפשר לנו לקבל ולתת באופן הדדי ויפה כל-כך. את הדאנה ניתן להעביר ליעל באמצעות פייפאל או באמצעות העברה בנקאית (נא לציין-עבור יעל אלטרץ): בנק הדואר (09) סניף 001/ שם העמותה: לימוד ותרגול מדיטטיבי/ מס' חשבון: 28512681 \n\n\n\nמחכים לראותכם\, \n\n\n\nצוות שנטידווה ויעל אלטרץ
URL:https://shantideva.org.il/event/%d7%a1%d7%95%d7%a4%d7%a9-%d7%9e%d7%a8%d7%95%d7%9b%d7%96-%d7%9c%d7%9c%d7%90-%d7%9c%d7%99%d7%a0%d7%94-%d7%a9%d7%9c-%d7%aa%d7%a8%d7%92%d7%95%d7%9c-%d7%91%d7%94%d7%a0%d7%97%d7%99%d7%99%d7%aa-%d7%99/2025-11-15
ATTACH;FMTTYPE=image/png:https://shantideva.org.il/wp-content/uploads/2025/09/Screenshot-2025-09-30-at-16.28.36.png
END:VEVENT
BEGIN:VEVENT
DTSTART;TZID=Asia/Jerusalem:20251128T100000
DTEND;TZID=Asia/Jerusalem:20251128T150000
DTSTAMP:20260424T010222
CREATED:20250907T140842Z
LAST-MODIFIED:20251027T074624Z
UID:4379-1764324000-1764342000@shantideva.org.il
SUMMARY:תרגול הבודהה המרפא - עם הנזירה אני לוסאנג  Medicine Buddha Sadhana
DESCRIPTION:בשמחה רבה נבשר שהנזירה היקרה אני לוסאנג שהגיעה לארץ כאורחת של עמותת "ידידי הדהרמה בישראל" נענתה להזמנה של קבוצתנו להנחות שלושה טקסי ריטואל בודהיסטיים. \n\n\n\nניפגש ביום שישי בבוקר לשני סשנים רצופים של תרגול הסאדנה של הבודהה המרפא בהנחיית הנזירה היקרה אני לוסאנג. זוהי הזדמנות יקרה מפז לתרגול טיהור תודעתנו ושליחת אנרגיות מרפאות לכל האיזור ולכל מי שצריך בתקופה הזו. \n\n\n\nסשן ראשון 10:00-12:00הפסקהסשן שני 13:00-15:00   \n\n\n\nנתרגל בדירה של ניצן ואילאיל. שמעון התרסי 43 תל אביב. (קומה 2\, דירה 9 קוד 4343) לפרטים נוספים ניתן ליצור קשר עם ניצן 0547612167 \n\n\n\nיש להגיע רבע שעה לפני הזמן להתארגנות. ניתן להגיע רק לאחד מהסשנים בהתאם למה שמתאים לכם. ניתן להביא מנחות לאלטר. \n\n\n\nדאנה תנתן דרך האתר של ידידי הדהרמה   https://www.dharma-friends.org.il/dhana   נא לציין שזה עבור אני לוסאנג \n\n\n\nהתרגול יועבר גם בזום בלינק https://us02web.zoom.us/j/81567040249 עם הסיסמא 1234 \n\n\n\nאני לוסנג  – מורה מרתקת\, נזירה ממוצא שווצרי\, מלמדת ומנחה באנגלית את המתרגלים הישראלים מזה כ30 שנה. \n\n\n\nלתשומת ליבכם\, ביום שבת ה- 29 בנובמבר תתקיים בכפר מונאש שבת דהרמה בהנחייתה בנושא: יהירות וקנאה. פרטים מלאים תמצאו כאן \n\n\n\n https://www.dharma-friends.org.il/events/%d7%a2%d7%9c-%d7%99%d7%94%d7%99%d7%a8%d7%95%d7%aa-%d7%95%d7%a7%d7%a0%d7%90%d7%94-%d7%a9%d7%91%d7%aa-%d7%93%d7%94%d7%a8%d7%9e%d7%94-%d7%a2%d7%9d-%d7%90%d7%a0%d7%99-%d7%9c%d7%95%d7%a1%d7%a0%d7%92/
URL:https://shantideva.org.il/event/%d7%aa%d7%a8%d7%92%d7%95%d7%9c-%d7%94%d7%91%d7%95%d7%93%d7%94%d7%94-%d7%94%d7%9e%d7%a8%d7%a4%d7%90-%d7%a2%d7%9d-%d7%94%d7%a0%d7%96%d7%99%d7%a8%d7%94-%d7%90%d7%a0%d7%99-%d7%9c%d7%95%d7%a1%d7%90%d7%a0
CATEGORIES:אני לוסנג 2025
ATTACH;FMTTYPE=image/png:https://shantideva.org.il/wp-content/uploads/2025/09/Screenshot-2025-09-07-at-17.08.04.png
END:VEVENT
BEGIN:VEVENT
DTSTART;TZID=Asia/Jerusalem:20251130T180000
DTEND;TZID=Asia/Jerusalem:20251130T200000
DTSTAMP:20260424T010222
CREATED:20250907T141312Z
LAST-MODIFIED:20251027T074351Z
UID:4384-1764525600-1764532800@shantideva.org.il
SUMMARY:תרגול לאמה צ'ופה (גורו יוגה) עם מורתנו אני לוסאנג
DESCRIPTION:בשמחה רבה נבשר שהנזירה היקרה אני לוסאנג שהגיעה לארץ כאורחת של עמותת "ידידי הדהרמה בישראל" נענתה להזמנה של קבוצתנו להנחות שלושה טקסי ריטואל בודהיסטיים. \n\n\n\nנתרגל ביחד את תודעתנו בטקס מיוחד מהמסורת הטיבטית המחבר אותנו למורינו היקרים והרבים- אלו שמאפשרים לדהרמה להיות נגישה בחיינו בצורה כל כך ברורה וחיה ומיטיבה. \n\n\n\nנתרגל בדירה של ניצן ואילאיל. שמעון התרסי 43 תל אביב. \n(קומה 2\, דירה 9 קוד 4343) \n\n\n\nיש להגיע רבע שעה לפני הזמן להתארגנות וגם ניתן להביא מנחות לאלטר. \n\n\n\nדאנה תנתן דרך האתר של ידידי הדהרמה   https://www.dharma-friends.org.il/dhana   נא לציין שזה עבור אני לוסאנג. \n\n\n\nהתרגול יועבר גם בזום בלינק https://us02web.zoom.us/j/81567040249 עם הסיסמא 1234 \n\n\n\nאני לוסנג  – מורה מרתקת\, נזירה ממוצא שווצרי\, מלמדת ומנחה באנגלית את המתרגלים הישראלים מזה כ30 שנה.
URL:https://shantideva.org.il/event/%d7%aa%d7%a8%d7%92%d7%95%d7%9c-%d7%9c%d7%90%d7%9e%d7%94-%d7%a6%d7%95%d7%a4%d7%94-%d7%92%d7%95%d7%a8%d7%95-%d7%99%d7%95%d7%92%d7%94-%d7%a2%d7%9d-%d7%9e%d7%95%d7%a8%d7%aa%d7%a0%d7%95-%d7%90%d7%a0-2
CATEGORIES:אני לוסנג 2025
ATTACH;FMTTYPE=image/png:https://shantideva.org.il/wp-content/uploads/2025/09/Screenshot-2025-09-07-at-15.38.19.png
END:VEVENT
END:VCALENDAR