BEGIN:VCALENDAR
VERSION:2.0
PRODID:-//לימוד ותרגול בודהיזם טיבטי, שנטידווה FPMT ישראל - ECPv5.2.1//NONSGML v1.0//EN
CALSCALE:GREGORIAN
METHOD:PUBLISH
X-WR-CALNAME:לימוד ותרגול בודהיזם טיבטי, שנטידווה FPMT ישראל
X-ORIGINAL-URL:https://shantideva.org.il
X-WR-CALDESC:אירועים ל לימוד ותרגול בודהיזם טיבטי, שנטידווה FPMT ישראל
BEGIN:VTIMEZONE
TZID:Asia/Jerusalem
BEGIN:DAYLIGHT
TZOFFSETFROM:+0200
TZOFFSETTO:+0300
TZNAME:IDT
DTSTART:20250328T000000
END:DAYLIGHT
BEGIN:STANDARD
TZOFFSETFROM:+0300
TZOFFSETTO:+0200
TZNAME:IST
DTSTART:20251025T230000
END:STANDARD
END:VTIMEZONE
BEGIN:VEVENT
DTSTART;TZID=Asia/Jerusalem:20251130T180000
DTEND;TZID=Asia/Jerusalem:20251130T200000
DTSTAMP:20260424T024428
CREATED:20250907T141312Z
LAST-MODIFIED:20251027T074351Z
UID:4384-1764525600-1764532800@shantideva.org.il
SUMMARY:תרגול לאמה צ'ופה (גורו יוגה) עם מורתנו אני לוסאנג
DESCRIPTION:בשמחה רבה נבשר שהנזירה היקרה אני לוסאנג שהגיעה לארץ כאורחת של עמותת "ידידי הדהרמה בישראל" נענתה להזמנה של קבוצתנו להנחות שלושה טקסי ריטואל בודהיסטיים. \n\n\n\nנתרגל ביחד את תודעתנו בטקס מיוחד מהמסורת הטיבטית המחבר אותנו למורינו היקרים והרבים- אלו שמאפשרים לדהרמה להיות נגישה בחיינו בצורה כל כך ברורה וחיה ומיטיבה. \n\n\n\nנתרגל בדירה של ניצן ואילאיל. שמעון התרסי 43 תל אביב. \n(קומה 2\, דירה 9 קוד 4343) \n\n\n\nיש להגיע רבע שעה לפני הזמן להתארגנות וגם ניתן להביא מנחות לאלטר. \n\n\n\nדאנה תנתן דרך האתר של ידידי הדהרמה   https://www.dharma-friends.org.il/dhana   נא לציין שזה עבור אני לוסאנג. \n\n\n\nהתרגול יועבר גם בזום בלינק https://us02web.zoom.us/j/81567040249 עם הסיסמא 1234 \n\n\n\nאני לוסנג  – מורה מרתקת\, נזירה ממוצא שווצרי\, מלמדת ומנחה באנגלית את המתרגלים הישראלים מזה כ30 שנה.
URL:https://shantideva.org.il/event/%d7%aa%d7%a8%d7%92%d7%95%d7%9c-%d7%9c%d7%90%d7%9e%d7%94-%d7%a6%d7%95%d7%a4%d7%94-%d7%92%d7%95%d7%a8%d7%95-%d7%99%d7%95%d7%92%d7%94-%d7%a2%d7%9d-%d7%9e%d7%95%d7%a8%d7%aa%d7%a0%d7%95-%d7%90%d7%a0-2
CATEGORIES:אני לוסנג 2025
ATTACH;FMTTYPE=image/png:https://shantideva.org.il/wp-content/uploads/2025/09/Screenshot-2025-09-07-at-15.38.19.png
END:VEVENT
END:VCALENDAR