BEGIN:VCALENDAR
VERSION:2.0
PRODID:-//לימוד ותרגול בודהיזם טיבטי, שנטידווה FPMT ישראל - ECPv5.2.1//NONSGML v1.0//EN
CALSCALE:GREGORIAN
METHOD:PUBLISH
X-WR-CALNAME:לימוד ותרגול בודהיזם טיבטי, שנטידווה FPMT ישראל
X-ORIGINAL-URL:https://shantideva.org.il
X-WR-CALDESC:אירועים ל לימוד ותרגול בודהיזם טיבטי, שנטידווה FPMT ישראל
BEGIN:VTIMEZONE
TZID:Asia/Jerusalem
BEGIN:DAYLIGHT
TZOFFSETFROM:+0200
TZOFFSETTO:+0300
TZNAME:IDT
DTSTART:20250328T000000
END:DAYLIGHT
BEGIN:STANDARD
TZOFFSETFROM:+0300
TZOFFSETTO:+0200
TZNAME:IST
DTSTART:20251025T230000
END:STANDARD
END:VTIMEZONE
BEGIN:VEVENT
DTSTART;TZID=Asia/Jerusalem:20250208T103000
DTEND;TZID=Asia/Jerusalem:20250208T133000
DTSTAMP:20260424T025738
CREATED:20241231T193248Z
LAST-MODIFIED:20241231T193250Z
UID:4304-1739010600-1739021400@shantideva.org.il
SUMMARY:תוכנית לימוד חדשה עם המורה יעל אלטרץ לאורו של ספרו של ה"ק הדלאי לאמה "כיצד לראות את עצמך כפי שהנך באמת"
DESCRIPTION:אנו שמחים להודיע על תוכנית לימוד חדשה: מסע להבנת ריקות כל התופעות\, ובמיוחד – ריקות העצמי. \n\n\n\nבמהלך סדרת מפגשים של אחת לשבועיים נלך בעקבותיו של כבוד הדלאי לאמה\, ונקרא יחד את ספרו –  \n\n\n\nכיצד לראות את עצמך כפי שהנך באמת – תרגום ועריכה ג'פרי הופקינס\, תרגום לעברית גילה פנפיל. \n\n\n\nגילה פנפיל\, המתרגמת לעברית\, כותבת בפתח הדברים: \n\n\n\n"בספר זה מנחה אותנו הדלאי לאמה להכיר בכך שאנו רואים את המציאות באופן שגוי\, ומוביל אותנו להבין את המציאות כפי שהיא. להבנה זו חשיבות מכרעת\, שכן שורש כל בעיותינו וסבלנו מצוי באי ההבנה הבסיסית של אופן הקיום שלנו ושל כל הסובב אותנו. סילוק הבערות הזאת הוא המפתח להשגת מה שאנו רוצים בו יותר מכל – שחרור מכל סבל ואושר תמידי". \n\n\n\nבמפגשים נצא בעקבות הדלאי לאמה למסע של גילוי עצמי. מסע בו נבחן את הנחות היסוד שלנו\, תפיסותינו לגבי עצמינו והסובבים אותנו – ונראה היכן התעתוע מוביל לסבל וכיצד ניתן להשתחרר ממנו. \n\n\n\nהספר כתוב כשיחה אישית עם הקוראים\, שיחה אינטימית בין מורה לתלמידיו. בשפה עשירה\, מלאת דוגמאות והסברים המבוססים על התנסויותיו האישיות –  הדלאי לאמה מוליך אותנו באימון הדרגתי\, צעד אחר צעד\, לעבר תובנות שיכולות לייצר רגעי אושר\, שקט פנימי וחירות מכבלים אישיים.  \n\n\n\nנקרא את הספר יחד\, נתרגל לאורו (הדלאי לאמה מציע תרגולים בסוף כל פרק)\, ונבחן את התנהלותנו ביום יום. ננוע על הציר בין התיאורטי לאישי. לעיתים נוסיף ידע תיאורטי מתוך המשנה של האסכולות הפילוסופיות הבודהיסטיות\, כדי להעמיק את ההבנה\, ולעיתים נתמקד בתחושותינו במהלך היומיום.   \n\n\n\nבסיום המסע נהיה כולנו במקום אחר של הבנת הריקות ואופי המציאות באופן כללי\, וריקות העצמי בפרט.  \n\n\n\nנקדיש לנושא זה כמה חודשים כך שנוכל לקרוא את כל הספר ולעבוד יחד דרך. \n\n\n\nלמי שאין את הספר תהיה אפשרות לרכוש אותו באופן מרוכז. יש לציין זאת בטופס ההרשמה.  \n\n\n\nהנרשמים/ות יקבלו עדכונים לגבי מיקום המפגשים במייל\, בסמוך למועד המפגש. \n\n\n\nלהרשמה\n\n\n\nהמפגשים מוענקים ביד רחבה  על בסיס דאנה- התרגול החשוב כל-כך של נדיבות הלב. כל אחד ואחת מעניקים דאנה כפי יכולתם על מנת לשמר את ההיזון החוזר היפה\, החשוב ושופע ההודיה לַזְכות שנפלה בחלקנו להנות מלימוד הדהרמה.ניתן להעביר דאנה באמצעות פייפאל או העברה בנקאית. פרטים מלאים תמצאו כאן. אנא ציינו שהדאנה מיועדת ליעל אלטרץ.
URL:https://shantideva.org.il/event/%d7%aa%d7%95%d7%9b%d7%a0%d7%99%d7%aa-%d7%9c%d7%99%d7%9e%d7%95%d7%93-%d7%97%d7%93%d7%a9%d7%94-%d7%a2%d7%9d-%d7%94%d7%9e%d7%95%d7%a8%d7%94-%d7%99%d7%a2%d7%9c-%d7%90%d7%9c%d7%98%d7%a8%d7%a5-%d7%9c%d7%90/2025-02-08
ATTACH;FMTTYPE=image/png:https://shantideva.org.il/wp-content/uploads/2024/12/Screenshot-2024-12-31-at-21.31.55.png
END:VEVENT
END:VCALENDAR