BEGIN:VCALENDAR
VERSION:2.0
PRODID:-//לימוד ותרגול בודהיזם טיבטי, שנטידווה FPMT ישראל - ECPv5.2.1//NONSGML v1.0//EN
CALSCALE:GREGORIAN
METHOD:PUBLISH
X-WR-CALNAME:לימוד ותרגול בודהיזם טיבטי, שנטידווה FPMT ישראל
X-ORIGINAL-URL:https://shantideva.org.il
X-WR-CALDESC:אירועים ל לימוד ותרגול בודהיזם טיבטי, שנטידווה FPMT ישראל
BEGIN:VTIMEZONE
TZID:Asia/Jerusalem
BEGIN:DAYLIGHT
TZOFFSETFROM:+0200
TZOFFSETTO:+0300
TZNAME:IDT
DTSTART:20200327T000000
END:DAYLIGHT
BEGIN:STANDARD
TZOFFSETFROM:+0300
TZOFFSETTO:+0200
TZNAME:IST
DTSTART:20201024T230000
END:STANDARD
END:VTIMEZONE
BEGIN:VEVENT
DTSTART;TZID=Asia/Jerusalem:20200811T195000
DTEND;TZID=Asia/Jerusalem:20200811T213000
DTSTAMP:20260424T042915
CREATED:20200730T153100Z
LAST-MODIFIED:20200730T153748Z
UID:3434-1597175400-1597181400@shantideva.org.il
SUMMARY:שנטידווה - פרק 6 עם יעל אלטרץ - חלק ג' (בעברית!)
DESCRIPTION:ממשיכים בסדרת המפגשים בעברית עם יעל אלטרץ להתעמקות בספרו המופתי של מאסטר שנטידווה "המדריך לאורח חייו של הבודהיסאטווה". הצטרפו אלינו לשיעורים המקוונים. \n\n\n\nהמפגשים יתקיימו בעברית\, אחת לשבוע\, ביום שלישי\, בשעות 19:50-21:30. \n\n\n\nהמפגש השלישי יתקיים ב 11.8.2020. \n\n\n\nפרק 6 – שלמות הסבלנות \n\n\n\nספרו של שנטידווה 'המדריך לאורח חייו של הבודהיסטווה' מציג את מכלול האימונים והתרגולים של דרך המהיאנה. זהו הטקסט אותו לימד הדלאי לאמה בשלמותו כ 34 פעמים\, כאשר הוא ציין כי פרקים 6 ו-8 הם הפרקים החשובים ביותר בטקסט הזה. \n\n\n\nהפרק השישי\, העוסק בפיתוח שלמות הסבלנות\, אכן מפורסם מאד ועוסק ביכולת לאמן את התודעה: כיצד להישאר עם מיינד רגוע\, שלו ומאוזן נוכח קשיים\, סבל\, פגיעה בנו ושאר אתגרים שונים. \n\n\n\nובאמת\, מה יכול להיות רלוונטי יותר בתקופה מורכבת זו המלאה בעמימות\, חשש ואתגרים רבים? \n\n\n\nפרק 6 הוא פרק עשיר המכיל מגוון תפיסות וכלים המבוססים על ידע בודהיסטי נרחב. מעיון מעמיק בפרק ניתן למצוא כלים המתבססים על חוק הקרמה וכללי האתיקה\, אחרים נטועים בעולמות של תרגול לאימון התודעה (Lojong – mind training)\, התהוות מותנית ואופן הקיום של תופעות שונות\, ועוד ועוד.  \n\n\n\nפרק רחב יריעה זה מאפשר לנו מפגש עם חלק ניכר מהעקרונות הבודהיסטים החשובים\, כאשר הם מוגשים לנו ככלים ישימים לחיי היום יום\, ולכן הלימוד שלו כל כך מרתק. \n\n\n\nהמפגשים רלוונטיים למי שכבר למד טקסט זה בעבר וכמובן גם למי שטרם פגש בו. בכל מפגש נשלב קריאה של בתי שיר נבחרים\, העמקה בידע הבודהיסטי עליו הם מושתתים\, וגם – רפלקציה אישית ומדיטציה מונחית\, כך שכל אחד יוכל להתחיל בתרגול אישי מותאם.  \n\n\n\nהמפגשים יערכו בזום\, כך שאפילו לא צריך לצאת מהבית ולחפש חניה. כל שצריך הוא נכונות ללמוד\, סקרנות\, מחויבות לחקירה עצמית\, מחשב ושעה וחצי פנויים מכל מלאכה אחרת. \n\n\n\nפרטים מלאים וטקסט ישלחו במייל לנרשמים. \n\n\n\nלהרשמה נא ללחוץ כאן: https://forms.gle/7KrV9vKNFN6oX7mQAדאנה עבור הלימוד ניתן להעביר באפליקציות ביט או פייבוקס לטלפון 050-5938418 או באמצעות פייפאל  http://paypal.me/alonap88
URL:https://shantideva.org.il/event/%d7%a9%d7%a0%d7%98%d7%99%d7%93%d7%95%d7%95%d7%94-%d7%a4%d7%a8%d7%a7-6-%d7%a2%d7%9d-%d7%99%d7%a2%d7%9c-%d7%90%d7%9c%d7%98%d7%a8%d7%a5-%d7%97%d7%9c%d7%a7-%d7%91-%d7%91%d7%a2%d7%91%d7%a8%d7%99
LOCATION:שיעור מקוון\, Israel
ATTACH;FMTTYPE=image/jpeg:https://shantideva.org.il/wp-content/uploads/2020/07/bodhicharyavatara_main.jpg
END:VEVENT
END:VCALENDAR