BEGIN:VCALENDAR
VERSION:2.0
PRODID:-//לימוד ותרגול בודהיזם טיבטי, שנטידווה FPMT ישראל - ECPv5.2.1//NONSGML v1.0//EN
CALSCALE:GREGORIAN
METHOD:PUBLISH
X-WR-CALNAME:לימוד ותרגול בודהיזם טיבטי, שנטידווה FPMT ישראל
X-ORIGINAL-URL:https://shantideva.org.il
X-WR-CALDESC:אירועים ל לימוד ותרגול בודהיזם טיבטי, שנטידווה FPMT ישראל
BEGIN:VTIMEZONE
TZID:Asia/Jerusalem
BEGIN:DAYLIGHT
TZOFFSETFROM:+0200
TZOFFSETTO:+0300
TZNAME:IDT
DTSTART:20210326T000000
END:DAYLIGHT
BEGIN:STANDARD
TZOFFSETFROM:+0300
TZOFFSETTO:+0200
TZNAME:IST
DTSTART:20211030T230000
END:STANDARD
END:VTIMEZONE
BEGIN:VEVENT
DTSTART;TZID=Asia/Jerusalem:20210724T100000
DTEND;TZID=Asia/Jerusalem:20210724T160000
DTSTAMP:20260423T202747
CREATED:20210528T132534Z
LAST-MODIFIED:20210704T062529Z
UID:3847-1627120800-1627142400@shantideva.org.il
SUMMARY:שנטידווה – המדריך לאורח חייו של הבודהיסטווה פרק 8
DESCRIPTION:לימוד מעמיק עם המורה יעל אלטרץ\n\n\n\n\n\nתאריך שבת ה- 24.7 \n\n\n\nשעות: 10:00 – 16:00 \n\n\n\nמיקום: המדיטיישן פקטורי\, בית קורקס (קומה 2)\, רח' משכית 27 הרצליה פיתוח \n\n\n\nהחל מאוגוסט 2019 אנו קוראות וקוראים אט אט ומתוודעים לטקסט רב העוצמה של שנטידווה. טקסט החושף בפנינו את כל התרגולים והאימונים המנטליים הנדרשים עבור אלו הצועדות והצועדים בדרך ההתפתחות הרוחנית. \n\n\n\n \n\n\n\nלאחר שנסיים את לימוד פרק 7 שעוסק במאמץ נלהב נמשיך לפרק 8.  \n\n\n\n \n\n\n\nפרק 8 העוסק בריכוז הוא פרק ארוך וגדוש\, מלא בכל טוב\, הממוקד בכמה תרגולים מהותיים. שנטידווה מציג את עקרונות התרגול של שהיה בשלווה- calm abiding\, טעימה מתרגולי ארבעת מוקדי שימת הלב (כתנאי מקדים לתרגול השהיה בשלווה)\, תרגול ההשתוות והחלפת האני באחר ועוד. \n\n\n\nבהנחייתה של יעל אלטרץ נבחר כמה נושאים מרכזיים להתמקד בהם ונעמיק ונצלול ליופיו של הטקסט\, נתרגל מדיטציות לאור הכתוב\, נדון בקבוצות במשמעות הדברים\, ונהנה מהאפשרות להיפגש וללמוד שוב יחד\, לא רק מול מסכי המחשבים.   \n\n\n\n*חומרי קריאה ולימוד נלווים ישלחו במייל לנרשמות ולנרשמים.  \n\n\n\n*תפתח אפשרות להצטרפות מקוונת דרך ה"זום" \n\n\n\nהשיעורים מועברים על בסיס דאנה-תרגול נדיבות הלב \n\n\n\nלהרשמה
URL:https://shantideva.org.il/event/%d7%a9%d7%a0%d7%98%d7%99%d7%93%d7%95%d7%95%d7%94-%d7%94%d7%9e%d7%93%d7%a8%d7%99%d7%9a-%d7%9c%d7%90%d7%95%d7%a8%d7%97-%d7%97%d7%99%d7%99%d7%95-%d7%a9%d7%9c-%d7%94%d7%91%d7%95%d7%93%d7%94
LOCATION:Meditation Factory\, משכית 27\, הרצליה
ATTACH;FMTTYPE=image/jpeg:https://shantideva.org.il/wp-content/uploads/2021/05/dhruv-mehra-bSPMqfFW8wA-unsplash-scaled.jpg
END:VEVENT
END:VCALENDAR