BEGIN:VCALENDAR
VERSION:2.0
PRODID:-//לימוד ותרגול בודהיזם טיבטי, שנטידווה FPMT ישראל - ECPv5.2.1//NONSGML v1.0//EN
CALSCALE:GREGORIAN
METHOD:PUBLISH
X-WR-CALNAME:לימוד ותרגול בודהיזם טיבטי, שנטידווה FPMT ישראל
X-ORIGINAL-URL:https://shantideva.org.il
X-WR-CALDESC:אירועים ל לימוד ותרגול בודהיזם טיבטי, שנטידווה FPMT ישראל
BEGIN:VTIMEZONE
TZID:Asia/Jerusalem
BEGIN:DAYLIGHT
TZOFFSETFROM:+0200
TZOFFSETTO:+0300
TZNAME:IDT
DTSTART:20210326T000000
END:DAYLIGHT
BEGIN:STANDARD
TZOFFSETFROM:+0300
TZOFFSETTO:+0200
TZNAME:IST
DTSTART:20211030T230000
END:STANDARD
END:VTIMEZONE
BEGIN:VEVENT
DTSTART;TZID=Asia/Jerusalem:20210424T180000
DTEND;TZID=Asia/Jerusalem:20210424T200000
DTSTAMP:20260423T202748
CREATED:20210323T130540Z
LAST-MODIFIED:20210323T130554Z
UID:3529-1619287200-1619294400@shantideva.org.il
SUMMARY:"שלושת ההיבטים העיקריים של הדרך" מאת לאמה צונגקאפה עם הנזירה לוזאנג יונטן
DESCRIPTION:הזדמנות ראשונה לחזור לאט\, לאט לשגרה\, להיפגש פיזית ולתרגל ביחד. \n\n\n\nבעזרת הנזירה היקרה לוזאנג יונטן\, שתנחה את הלימוד באופן מקוון באמצעות ה"זום" היישר ממונטנה-ארה"ב נתעמק יחדיו בטקסט המופלא שמתאר בקצרה את כול שלבי הדרך עד להארה. \n\n\n\nהשיעורים יפתחו בלימוד מקדים ולאחריו שיח משתתפות ומשתתפים ודיון בשאלות שיעלו. \n\n\n\nנקנח עם תרגול מדיטטיבי מתאים. לראשונה תהיה האפשרות למי שירצו\, להתנסות בהנחיית חלק מן השיעורים. \n\n\n\nלצד ההזדמנות לשוב ולהיפגש סופסוף באופן פיזי\, קיימת גם האפשרות להצטרף ללימוד באופן מקוון. \n\n\n\nלנרשמות ולנרשמים ישלחו הטקסטים בעברית ובאנגלית. \n\n\n\nהשהייה באולם תתקיים בהתאם למגבלות הקורונה\, תוך שמירה על מרחק וחבישת מסכה. \n\n\n\nהלימוד מוענק על בסיס דאנה בהתאם למסורת נדיבות הלב בבודהיזם הטיבטי. התרומות שיאספו יועברו למורה כהוקרה על הענקת הלימוד ומתוכן יכוסו ההוצאות הנלוות ללימוד. \n\n\n\nמתי: מוצ"ש מהשעה 18:00 עד לשעה 20:00 לכל המאוחר \n\n\n\nתאריכים: 24.4/ 1.5/ 8.5/ 15.5/ 22.5/ 29.5 \n\n\n\nמיקום: המדיטיישן פקטורי\, בית קורקס קומה 2\, רח' משכית 27 הרצליה \n\n\n\nלהרשמה
URL:https://shantideva.org.il/event/%d7%a9%d7%9c%d7%95%d7%a9%d7%aa-%d7%94%d7%94%d7%99%d7%91%d7%98%d7%99%d7%9d-%d7%94%d7%a2%d7%99%d7%a7%d7%a8%d7%99%d7%99%d7%9d-%d7%a9%d7%9c-%d7%94%d7%93%d7%a8%d7%9a-%d7%9e%d7%90%d7%aa-%d7%9c%d7%90/2021-04-24
LOCATION:Meditation Factory\, משכית 27\, הרצליה
ATTACH;FMTTYPE=image/jpeg:https://shantideva.org.il/wp-content/uploads/2019/12/לאמה-צונגקאפה.jpg
END:VEVENT
END:VCALENDAR