BEGIN:VCALENDAR
VERSION:2.0
PRODID:-//לימוד ותרגול בודהיזם טיבטי, שנטידווה FPMT ישראל - ECPv5.2.1//NONSGML v1.0//EN
CALSCALE:GREGORIAN
METHOD:PUBLISH
X-WR-CALNAME:לימוד ותרגול בודהיזם טיבטי, שנטידווה FPMT ישראל
X-ORIGINAL-URL:https://shantideva.org.il
X-WR-CALDESC:אירועים ל לימוד ותרגול בודהיזם טיבטי, שנטידווה FPMT ישראל
BEGIN:VTIMEZONE
TZID:Asia/Jerusalem
BEGIN:DAYLIGHT
TZOFFSETFROM:+0200
TZOFFSETTO:+0300
TZNAME:IDT
DTSTART:20250328T000000
END:DAYLIGHT
BEGIN:STANDARD
TZOFFSETFROM:+0300
TZOFFSETTO:+0200
TZNAME:IST
DTSTART:20251025T230000
END:STANDARD
END:VTIMEZONE
BEGIN:VEVENT
DTSTART;TZID=Asia/Jerusalem:20251206T103000
DTEND;TZID=Asia/Jerusalem:20251206T133000
DTSTAMP:20260424T024428
CREATED:20250930T132037Z
LAST-MODIFIED:20251103T081845Z
UID:4401-1765017000-1765027800@shantideva.org.il
SUMMARY:קושי כאבן דרך במסע הרוחני
DESCRIPTION:קורס מקיף לרבעון הקרוב עם המורה יעל אלטרץ \n\n\n\n תאריכים: ימי שבת 1.11\, 6.12\, 20.12\, 17.1\, 24.1 \n\n\n\nשעות: 10:30-13:30 \n\n\n\nמיקום: נאות אפקה\, תל אביב \n\n\n\n*נדרשת הרשמה \n\n\n\n גַאבּוֹר מַאטֶה כותב בספרו – מיתוס הנורמליות: טראומה\, מחלה וריפוי בתרבות רעילה (2022): \n\n\n\n"אינני מכיר אדם שבאמת צמח והשתנה מבלי שקדמו לכך אובדן\, מחלה\, ייאוש או ניכור. \n\n\n\nלמרבה המזל – או חוסר המזל\, תלוי איך נבחר לראות זאת – החיים עצמם יודעים להביא את \n\n\n\nהסבל הנדרש עד לפתח ביתנו." \n\n\n\n דבריו מעוררים שאלות- כיצד אני רואה את הסבל המובא לפתחי? האם יש לי את היכולת לפגוש בו בצורה מיומנת\, המאפשרת לי יותר רווחה בסיטואציה\, ואולי אפילו לראות בו מנוף להתפתחות ולצמיחה? האם אני רואה במפגש עימו מזל רב או חוסר מזל? \n\n\n\n פגישת הסבל בצורה מיומנת אינה דבר פשוט כמובן. מַאטֶה מצטט את נדיז'דה מנדלשטם \n\n\n\nשכתבה בזיכרונותיה על החיים תחת הסטליניזם  (תקווה כנגד תקווה): "קשה מאוד להישיר מבט אל החיים עצמם." לא פשוט לנו לפגוש בכאב. זוהי אמת הַנֶּאֱצָלִים וְהַנֶּאֱצָלוֹת הראשונה – האמת של הסבל. \n\n\n\n את הקושי אנו מכירים. הסבל\, חוסר הנוחות\, הכאב – הם יכולים להציף. להכות. להקהות. אולי לשתק. לעיתים נדמה שהמצב לא מאפשר להמשיך לתרגל\, להמשיך לטפח את התודעה. אנו רוצים לחכות למצב בו כל התנאים יהיו נוחים ותומכים ומאפשרים. \n\n\n\n גם הבודהיזם נדרש לסוגיה הזו: כיצד נביא את הקשיים אל הדרך? כיצד הכאב\, הפחד\, הקושי\, הייאוש – יהפכו לאבני דרך בדרכנו הרוחנית? שאלה זו\, למשל\, מופיעה במפורש בתפילה- קריאה לגורו מרחוק – שם נאמר: "אנא ברך אותי כך שאוכל לראות את כל התנאים הקשים כתמיכה". \n\n\n\n ואכן המורים הגדולים התגייסו לנושא למעננו. בתרגולים מסוג Lojong – אימון התודעה – בטקסטים ייעודיים לנושא של לקיחת קשיים אל הדרך\, הם כתבו הנחיות\, נתנו כלים\, הציגו שלבי אימון לשינוי הגישה למצב – הכל כדי שנוכל למנף את הקושי; שנוכל לראותו כחלק בלתי נפרד מתהליכי ההתפתחות שלנו. \n\n\n\n במהלך הקורס הקרוב ננסה לתרגל חלק מסך הכלים המוצעים בתחום. נעקוב אחר רעיונות של לאמה צונגקאפה (שאמר למשל – "אמן את תודעתך לחשוב: סבל זה תנאי שאני רוצה בו")\, כבוד הדלאי לאמה (שמראה לנו כיצד פעולה כנגד הוקרת העצמי\, בשילוב עם הבנת הריקות וחוק הקארמה יכולים לסייע לנו)\, ספרו של לאמה זופה רינפוצ'ה בנושא לקיחת הקשיים אל הדרך\, תיך נאת האן (שמציג גישה א-דואלית של סבל ואושר\, ומראה כיצד נוכל להגיע לנירוונה בנשימה מוּדעת אחת)\, ועוד רעיונות מתוך טקסטים שממוקדים בנושא הזה. \n\n\n\n הקורס יכלול מפגשים אחת לשבועיים. בין המפגשים נשלח הנחיות מוקלטות להמשך תרגול. \n\n\n\n על מנת להצטרף יש למלא ולשלוח את טופס ההרשמה בלחיצה כאן \n\n\n\n *לטובת מי שאינם יכולים להגיע למפגשים באופן פיזי\, נעביר את המפגשים באופן מקוון גם ב"זום". הקישור ישלח לנרשמים. \n\n\n\nהצטרפו אלינו\, נלמד ונתרגל יחד ונעמיק בנושא שכל כך רלוונטי לחיינו כעת. \n\n\n\nהמפגשים מוענקים על בסיס דאנה- תרגול נדיבות הלב המאפשר לנו לקבל ולתת באופן הדדי ויפה כל-כך. את הדאנה ניתן להעביר ליעל באמצעות פייפאל או באמצעות העברה בנקאית (נא לציין-עבור יעל אלטרץ): בנק הדואר (09) סניף 001/ שם העמותה: לימוד ותרגול מדיטטיבי/ מס' חשבון: 28512681 \n\n\n\n מחכים לראותכם\, \n\n\n\nצוות שנטידווה ויעל אלטרץ
URL:https://shantideva.org.il/event/%d7%a7%d7%95%d7%a9%d7%99-%d7%9b%d7%90%d7%91%d7%9f-%d7%93%d7%a8%d7%9a-%d7%91%d7%9e%d7%a1%d7%a2-%d7%94%d7%a8%d7%95%d7%97%d7%a0%d7%99/2025-12-06
ATTACH;FMTTYPE=image/png:https://shantideva.org.il/wp-content/uploads/2025/09/Screenshot-2025-09-30-at-16.22.40.png
END:VEVENT
END:VCALENDAR