BEGIN:VCALENDAR
VERSION:2.0
PRODID:-//לימוד ותרגול בודהיזם טיבטי, שנטידווה FPMT ישראל - ECPv5.2.1//NONSGML v1.0//EN
CALSCALE:GREGORIAN
METHOD:PUBLISH
X-WR-CALNAME:לימוד ותרגול בודהיזם טיבטי, שנטידווה FPMT ישראל
X-ORIGINAL-URL:https://shantideva.org.il
X-WR-CALDESC:אירועים ל לימוד ותרגול בודהיזם טיבטי, שנטידווה FPMT ישראל
BEGIN:VTIMEZONE
TZID:Asia/Jerusalem
BEGIN:DAYLIGHT
TZOFFSETFROM:+0200
TZOFFSETTO:+0300
TZNAME:IDT
DTSTART:20220325T000000
END:DAYLIGHT
BEGIN:STANDARD
TZOFFSETFROM:+0300
TZOFFSETTO:+0200
TZNAME:IST
DTSTART:20221029T230000
END:STANDARD
END:VTIMEZONE
BEGIN:VEVENT
DTSTART;TZID=Asia/Jerusalem:20221110T190000
DTEND;TZID=Asia/Jerusalem:20221110T210000
DTSTAMP:20260423T202821
CREATED:20221022T152429Z
LAST-MODIFIED:20221106T194933Z
UID:4092-1668106800-1668114000@shantideva.org.il
SUMMARY:קורס מבוא לבודהיזם בשפה העברית
DESCRIPTION:בהנחיית המורה יעל אלטרץ\n\n\n\n6 מפגשים בני שעתיים כל אחד (בין השעות 19:00-21:00 עם הפסקה קצרה)\nתאריכים: ימי חמישי 10.11 / 17.11 / 24.11 / 1.12 / 8.12 / 15.12\nמיקום: המדיטיישן פקטורי\, רח' משכית 27\, הרצליה \n\n\n\nכמה פעמים נתקלתם במונחים כמו: מיינדפולנס\, מדיטציות\, תודעה – ולא הייתם בטוחים בדיוק במה מדובר?האם יש בכם סקרנות לדעת במה בודהיזם עוסק באמת?עולות בכם שאלות כמו: האם באמת ניתן לאמן את התודעה? ומה זה ייתן לי בעצם? ואיך מתרגלים מדיטציה? ומה המשמעות של מיינדפולנס שכעת כולם משבצים בכל משפט?ואולי חזרתם לאחרונה מהמזרח וטעמתם מעט מהבודהיזם? או שביקרתם באחד ממרכזי FPMT בטושיטה- דהרמסלה\, הודו או במנזר קופאן-קטמנדו\, נפאל\, או בכל מרכז אחר וברצונכם להמשיך וללמוד ולבסס את הידע שרכשתם. ובכן\, הגיע הזמן לקבל תשובות.קורס מבוא קצר לבודהיזם יוצא לדרך! \n\n\n\nהקורס יאפשר לכם לעשות היכרות קרובה עם הגישה הבודהיסטית\, הפילוסופיה הבודהיסטית והקווים המנחים המהווים את היסודות ללימוד.השיעורים ישלבו לימוד\, תרגול מדיטטיבי ושיח פתוח של שאלות ותשובות. \n\n\n\nהקורס מיועד למתחילים ולכל מי שרוצה לרענן ידע קיים. \n\n\n\nנדרשת הרשמה לקורס כדי שנוכל לשלוח לכם את חומרי הלימוד ולהיות בקשר רציף. \n\n\n\nאפשר גם להכנס לזום בקישור: \n\n\n\nJoin Zoom Meeting https://us02web.zoom.us/j/84754098325 Meeting ID: 847 5409 8325 Passcode: 123456 \n\n\n\nהקורס מועבר על בסיס "דאנה"- שלמות הנדיבות בנסורת הבודהיסטית. כלומר\, כל אחד ואחת מתרגלים את נדיבות הלב ככל יכולתם האישית. הסכומים שיאספו יועברו למורה כהוקרה על נדיבותה. על ההשקעה ועל הענקת הלימוד\, בניכוי ההוצאות השוטפות הנלוות שמשלמת העמותה. \n\n\n\nלהרשמה
URL:https://shantideva.org.il/event/%d7%a7%d7%95%d7%a8%d7%a1-%d7%9e%d7%91%d7%95%d7%90-%d7%9c%d7%91%d7%95%d7%93%d7%94%d7%99%d7%96%d7%9d-%d7%91%d7%a9%d7%a4%d7%94-%d7%94%d7%a2%d7%91%d7%a8%d7%99%d7%aa/2022-11-10
LOCATION:המדיטיישן פקטורי\, משכית 27\, הרצליה\, Israel
ATTACH;FMTTYPE=image/jpeg:https://shantideva.org.il/wp-content/uploads/2022/10/abhijeet-gourav-jwr0xaXsYKk-unsplash.jpg
END:VEVENT
END:VCALENDAR