BEGIN:VCALENDAR
VERSION:2.0
PRODID:-//לימוד ותרגול בודהיזם טיבטי, שנטידווה FPMT ישראל - ECPv5.2.1//NONSGML v1.0//EN
CALSCALE:GREGORIAN
METHOD:PUBLISH
X-WR-CALNAME:לימוד ותרגול בודהיזם טיבטי, שנטידווה FPMT ישראל
X-ORIGINAL-URL:https://shantideva.org.il
X-WR-CALDESC:אירועים ל לימוד ותרגול בודהיזם טיבטי, שנטידווה FPMT ישראל
BEGIN:VTIMEZONE
TZID:Asia/Jerusalem
BEGIN:DAYLIGHT
TZOFFSETFROM:+0200
TZOFFSETTO:+0300
TZNAME:IDT
DTSTART:20200327T000000
END:DAYLIGHT
BEGIN:STANDARD
TZOFFSETFROM:+0300
TZOFFSETTO:+0200
TZNAME:IST
DTSTART:20201024T230000
END:STANDARD
END:VTIMEZONE
BEGIN:VEVENT
DTSTART;TZID=Asia/Jerusalem:20200514T200000
DTEND;TZID=Asia/Jerusalem:20200514T220000
DTSTAMP:20260423T232909
CREATED:20200502T110825Z
LAST-MODIFIED:20200509T193800Z
UID:3363-1589486400-1589493600@shantideva.org.il
SUMMARY:קַאלָצָ'אקְרָה והציוויליזציה החדשה
DESCRIPTION:Kalacakra and The New Civilisation \n\n\n\n\n\nתאריכים: ימי חמישי ה-14.5 וה-21.5/ שבת ה- 30.5 / ימי חמישי ה-4.6\, 11.6 וה-18.6 \n\n\n\nשעות: 20:00-22:00 (שעון ירושלים המקומי GMT) \n\n\n\nKalacakra and the New Civilisation with Andy Wistreich \n\n\n\n For information and registration in English\, please scroll down this page \n\n\n\nאין זמן מתאים יותר מהתקופה המאתגרת בה אנו נמצאים כדי להתחבר לתורת הקאלצ'אקרה ולייצר איזון רוחני\, קיומי סביבתי וחברתי. תוכנית הלימוד שמעניק לנו המורה אנדי וויסטריך מבוססת על המסורת הבודהיסטית העתיקה של קאלצ'אקרה- גלגל הזמן\, שמבין לעומק את מחזוריות עלייתם ונפילתם של חיי הפרט\, היקומים והציוויליזציות ואת הקשרים ההדוקים ביניהם.  \n\n\n\n אנדי הוא אחד המורים הוותיקים והמבוקשים ביותר לתרגולי קאלצ'אקרה וקיבל לימודים וחניכות מהמורים הגדולים ביותר וביניהם ה"ק הדלאי לאמה. \n\n\n\nכחלק מפרויקט ליצירת מסורת קאלצ'אקרה במאה ה -21\, בוחנת תכנית הלימוד את המשבר הנוכחי שלנו וכיצד אנו כפרטיים יכולים להשתתף ביצירת תרבות חדשה. \n\n\n\nטנטרת הקאלצ'אקרה מדברת על הדהרמה הברברית כתורתם או כאידיאולוגיה של אלה\, שכמו סוציופתים\, משתמשים באלימות ובאכזריות בעת המרדף אחר מטרותיהם המטריאליסטיות. אנו יכולים לראות שתורה זו מתקיימת באופן ברור בחלקים רבים של העולם כיום. \n\n\n\n בהנחייתו של אנדי\, נבחן את שורשיה של האידיאולוגיה המזיקה הזו ונכיר מקרוב את הדרך החיובית הרדיקלית שתאפשר לנו לראות נִכוחה את אותה אידיאולוגיה ומעֶבֶר לה באמצעות הדהרמה הטהורה של חוכמה וחמלה\, שזִרעה טמון בלב כל יצור חי. אלה הם הזרעים של טרנספורמציה אקולוגית\, חברתית ואישית חיובית. \n\n\n\nלאורך המפגשים נחקור את תהליך ההתמוטטות החברתית ונלמד איך להגיב באופן חיובי. נמצא דרכי הסתגלות\, נלמד כיצד ליצור הרמוניה בין חמשת היסודות על ידי תרגול שיטות המחזקות מחדש את היסודות בתוך הפרט\, לא רק באופן שמועיל לאותו אדם\, אלא גם באופן שישפיע יותר על החברה והסביבה. השיטות שנלמד יכולות להחזיר את היציבות הפנימית והחיצונית ואת האיזון ההרמוני הבסיסי. \n\n\n\n השיעורים יכללו גם מדיטציות שתעביר שאן טייט (בת זוגו של אנדי ובעלת ניסיון רב בהעברת מדיטציות)\, קבוצות דיון ואפשרות לשאלות ותשובות. \n\n\n\nלנרשמים ישלחו הקישורים למפגשי הלימוד ב"זום" בצירוף חומרי לימוד. \n\n\n\nלהרשמה\n\n\n\nKalacakra and the New Civilisation – a spiritual approach to ecological\, social and personal transformation \n\n\n\n Online teaching with Andy Wistreich \n\n\n\nDates: Thursdays 14\,21\, Saturday 30 May; Thursdays 4\,11\,18 June 2020 \n\n\n\nHours: 20:00-22:00 (Local Jerusalem time GMT +3) \n\n\n\nThis programme is designed for the times we are living through. It is based on the ancient Buddhist tradition of Kalacakra\, the Wheel of Time\, which understands the rise and fall of individual life\, universes and civilisations to be cyclical and interconnected. As part of a project to create a Kalacakra tradition for the 21st century\, this programme explores our current crisis and how we as individuals might participate in the creation of a new civilisation. \n\n\n\n The Kalacakratantra speaks of the barbarian dharma as the doctrine or ideology of those who\, like sociopaths\, utilise violence and cruelty in pursuit of their materialistic goals. We can see this doctrine manifestly operating in many parts of the world today. Guided by Andy Wistreich\, we begin by exploring the roots of this harmful ideology\, and then consider the radical positive way to see through and beyond it: the pure Dharma of wisdom and compassion\, whose seed lies in the heart of every living being. These are seeds of positive ecological\, social and personal transformation. \n\n\n\n Throughout the meetings we will investigate the process of societal collapse and how to respond positively. We will find ways of adaptation\, learn how to harmonize the elements by practicing methods that reharmonize the elements within the individual\, not only benefitthat person\, but have a wider impact on society and the environment. Such practices can restore the inner and outer stability and balance of elemental harmony. \n\n\n\nThe teachings will include meditations lead by Shan Tate\, breakout discussion groups and a question and answer session. \n\n\n\nRegistered students will be sent the links to the Zoom meeting and written materials. \n\n\n\nRegistration
URL:https://shantideva.org.il/event/%d7%a7%d6%b7%d7%90%d7%9c%d6%b8%d7%a6%d6%b8%d7%90%d7%a7%d6%b0%d7%a8%d6%b8%d7%94-%d7%95%d7%94%d7%a6%d7%99%d7%95%d7%95%d7%99%d7%9c%d7%99%d7%96%d7%a6%d7%99%d7%94-%d7%94%d7%97%d7%93%d7%a9%d7%94
LOCATION:מקוון (זום)\, Israel
ATTACH;FMTTYPE=image/jpeg:https://shantideva.org.il/wp-content/uploads/2016/09/Andy-Wistreich.jpg
END:VEVENT
END:VCALENDAR