BEGIN:VCALENDAR
VERSION:2.0
PRODID:-//לימוד ותרגול בודהיזם טיבטי, שנטידווה FPMT ישראל - ECPv5.2.1//NONSGML v1.0//EN
CALSCALE:GREGORIAN
METHOD:PUBLISH
X-WR-CALNAME:לימוד ותרגול בודהיזם טיבטי, שנטידווה FPMT ישראל
X-ORIGINAL-URL:https://shantideva.org.il
X-WR-CALDESC:אירועים ל לימוד ותרגול בודהיזם טיבטי, שנטידווה FPMT ישראל
BEGIN:VTIMEZONE
TZID:Asia/Jerusalem
BEGIN:DAYLIGHT
TZOFFSETFROM:+0200
TZOFFSETTO:+0300
TZNAME:IDT
DTSTART:20230324T000000
END:DAYLIGHT
BEGIN:STANDARD
TZOFFSETFROM:+0300
TZOFFSETTO:+0200
TZNAME:IST
DTSTART:20231028T230000
END:STANDARD
END:VTIMEZONE
BEGIN:VEVENT
DTSTART;TZID=Asia/Jerusalem:20230218T103000
DTEND;TZID=Asia/Jerusalem:20230218T123000
DTSTAMP:20260424T011557
CREATED:20230214T102839Z
LAST-MODIFIED:20230214T102851Z
UID:4176-1676716200-1676723400@shantideva.org.il
SUMMARY:מפגשי הסהנגהה על הספר שנת הלאם רים
DESCRIPTION:תאריכים: שבת ה- 18/2/23\, 4/3/23\, 18/3/23\, 1/4/23 מיקום: תל-אביב\, על מנת לקבל את הכתובת המדויקת יש להרשם שעות: 10:30-12:30 אנו ממשיכים במסע שלנו לאורך הספר שנת הלאם רים\, וכעת אנו חוזרים על היסודות ונזכרים בפרקים הראשונים.*ניתן לקרוא בקובץ ה PDF של הספר בלחיצה כאן \n\n\n\nבמהלך המפגשים בחודשי פברואר ומרץ נעמיק בספר ונהפוך את הלימוד לאישי\, נביא נושאים מחיינו ונדבר עם חברינו לדרך על תרגול הדהרמה. נקרא בספר\, נמדוט ונדון יחד על משמעות הדברים וכיצד ליישמם בחיינו אנו. \n\n\n\nכל אחת ואחד מכם מוזמנים להצטרף בשמחה רבה. מומלץ להירשם כדי לקבל במייל את כל המצגות והתכנים שבהם נדון במפגש ואת כל העדכונים לגבי מיקום המפגשים.להרשמה למפגשי הסנגהה נא ללחוץ כאן \n\n\n\nהמפגשים מועברים גם בזום (למרות שחוויית המפגש הפיזי עוצמתית יותר). https://us02web.zoom.us/j/86575264733 Meeting ID: 865 7526 4733 Passcode: 123456   \n\n\n\nלהרשמה\n\n\n\n המפגשים מתקיימים על בסיס "דאנה"- שלמות הנדיבות בנסורת הבודהיסטית. כלומר\, כל אחד ואחת מתרגלים את נדיבות הלב ככל יכולתם האישית. הסכומים שיאספו יועברו למורה כהוקרה על נדיבותה.
URL:https://shantideva.org.il/event/%d7%9e%d7%a4%d7%92%d7%a9%d7%99-%d7%94%d7%a1%d7%94%d7%a0%d7%92%d7%94%d7%94-%d7%a2%d7%9c-%d7%94%d7%a1%d7%a4%d7%a8-%d7%a9%d7%a0%d7%aa-%d7%94%d7%9c%d7%90%d7%9d-%d7%a8%d7%99%d7%9d/2023-02-18
ATTACH;FMTTYPE=image/png:https://shantideva.org.il/wp-content/uploads/2021/08/Screen-Shot-2021-08-09-at-17.26.42.png
END:VEVENT
END:VCALENDAR