BEGIN:VCALENDAR
VERSION:2.0
PRODID:-//לימוד ותרגול בודהיזם טיבטי, שנטידווה FPMT ישראל - ECPv5.2.1//NONSGML v1.0//EN
CALSCALE:GREGORIAN
METHOD:PUBLISH
X-WR-CALNAME:לימוד ותרגול בודהיזם טיבטי, שנטידווה FPMT ישראל
X-ORIGINAL-URL:https://shantideva.org.il
X-WR-CALDESC:אירועים ל לימוד ותרגול בודהיזם טיבטי, שנטידווה FPMT ישראל
BEGIN:VTIMEZONE
TZID:Asia/Jerusalem
BEGIN:DAYLIGHT
TZOFFSETFROM:+0200
TZOFFSETTO:+0300
TZNAME:IDT
DTSTART:20220325T000000
END:DAYLIGHT
BEGIN:STANDARD
TZOFFSETFROM:+0300
TZOFFSETTO:+0200
TZNAME:IST
DTSTART:20221029T230000
END:STANDARD
END:VTIMEZONE
BEGIN:VEVENT
DTSTART;TZID=Asia/Jerusalem:20221119T180000
DTEND;TZID=Asia/Jerusalem:20221119T193000
DTSTAMP:20260423T233448
CREATED:20221022T154126Z
LAST-MODIFIED:20221023T125902Z
UID:4102-1668880800-1668886200@shantideva.org.il
SUMMARY:מפגשי הסהנגהה בהנחייתה של יעל אלטרץ
DESCRIPTION:תאריכים: שבת ה- 5.11.2022 / 19.11.2022 / 14.1.2023 / 28.1.2023 מיקום: תל-אביב שעות: 18:00-19:30 אנו ממשיכים במסע שלנו לאורך הספר שנת הלאם רים\, וכעת אנו עומדים בפתחו של נושא הבודהיצ'יטה עם יעל אלטרץ.*ניתן לקרוא בקובץ ה PDF של הספר בלחיצה כאן \n\n\n\n"הישג כמו ראייה צלולה\, או חיזיון של דייטי\, או ריכוז יציב כהר – אינם שווים דבר בהשוואה לבודהיצ'יטה". \n\n\n\nבמהלך שני מפגשים בחודש נובמבר נתכנס שוב יחד\, כל הסנגהה\, להעמיק בנושא מעורר השראה זה.\nנקרא בספר\, נמדוט ונדון יחד על משמעות הדברים וכיצד ליישמם בחיינו אנו.\nהמפגשים שיתקיימו בינואר 2023 יעסקו בנושא האחרון בספר- הריקות. \n\n\n\nכל אחת ואחד מכם מוזמנים להצטרף בשמחה רבה. מומלץ להירשם כדי לקבל במייל את כל המצגות והתכנים שבהם נדון במפגש ואת כל העדכונים לגבי מיקום המפגשים.להרשמה למפגשי הסנגהה נא ללחוץ כאן \n\n\n\nהמפגשים מועברים גם בזום (למרות שחוויית המפגש הפיזי עוצמתית יותר). https://us02web.zoom.us/j/86575264733 Meeting ID: 865 7526 4733 Passcode: 123456   \n\n\n\nלהרשמה\n\n\n\n המפגשים מתקיימים על בסיס "דאנה"- שלמות הנדיבות בנסורת הבודהיסטית. כלומר\, כל אחד ואחת מתרגלים את נדיבות הלב ככל יכולתם האישית. הסכומים שיאספו יועברו למורה כהוקרה על נדיבותה.
URL:https://shantideva.org.il/event/%d7%9e%d7%a4%d7%92%d7%a9%d7%99-%d7%94%d7%a1%d7%94%d7%a0%d7%92%d7%94%d7%94-%d7%91%d7%94%d7%a0%d7%97%d7%99%d7%99%d7%aa%d7%94-%d7%a9%d7%9c-%d7%99%d7%a2%d7%9c-%d7%90%d7%9c%d7%98%d7%a8%d7%a5-2
ATTACH;FMTTYPE=image/png:https://shantideva.org.il/wp-content/uploads/2021/08/Screen-Shot-2021-08-09-at-17.26.42.png
END:VEVENT
END:VCALENDAR