BEGIN:VCALENDAR
VERSION:2.0
PRODID:-//לימוד ותרגול בודהיזם טיבטי, שנטידווה FPMT ישראל - ECPv5.2.1//NONSGML v1.0//EN
CALSCALE:GREGORIAN
METHOD:PUBLISH
X-WR-CALNAME:לימוד ותרגול בודהיזם טיבטי, שנטידווה FPMT ישראל
X-ORIGINAL-URL:https://shantideva.org.il
X-WR-CALDESC:אירועים ל לימוד ותרגול בודהיזם טיבטי, שנטידווה FPMT ישראל
BEGIN:VTIMEZONE
TZID:Asia/Jerusalem
BEGIN:DAYLIGHT
TZOFFSETFROM:+0200
TZOFFSETTO:+0300
TZNAME:IDT
DTSTART:20250328T000000
END:DAYLIGHT
BEGIN:STANDARD
TZOFFSETFROM:+0300
TZOFFSETTO:+0200
TZNAME:IST
DTSTART:20251025T230000
END:STANDARD
END:VTIMEZONE
BEGIN:VEVENT
DTSTART;TZID=Asia/Jerusalem:20250924T193000
DTEND;TZID=Asia/Jerusalem:20250924T203000
DTSTAMP:20260424T024346
CREATED:20250823T105531Z
LAST-MODIFIED:20250824T130757Z
UID:4338-1758742200-1758745800@shantideva.org.il
SUMMARY:מדיטציית שאמטה מודרכת עם פרנסואה שיק
DESCRIPTION:ביום רביעי ה24.9 ניפגש בערב ב"זום" עם המורה פרנסואה שיק כדי לתרגל את מדיטציית השמאטה ולצבור עוד מיומנויות יקרות-ערך שיעזרו לנו להתקדם ולחדד את הריכוז החד-נקודתי ואת השהייה בשלווה. \n\n\n\nנתחיל ב 19:30 ונסיים ב 20:30 \n\n\n\n\n\n\n\nפרנסואה מעניק לנו עוד ועוד כלים ומעשיר את טכניקות המדיטציה באופן המאפשר לכל אחד ואחת מאיתנו למצוא את השילוב המתאים לנו ולהתקדם. זה נפלא. \n\n\n\nהצטרפו אלינו לשעה מעצימה של תרגול משותף. \n\n\n\nקישור למפגשי קבוצת התרגול \n\n\n\nJoin Zoom Meeting \n\n\n\nhttps://us02web.zoom.us/j/89677791124 \n\n\n\nMeeting ID: 896 7779 1124 \n\n\n\nPasscode: 123456 \n\n\n\nהמפגשים מוענקים על בסיס דאנה. \n\n\n\nניתן להעביר את הדאנה לפרנסואה באמצעות העברה בנקאית. פרטים מלאים כאן \n\n\n\nאו באמצעות פייפאל כאן \n\n\n\nבברכה\, \n\n\n\nצוות שנטידווה FPMT ישראל
URL:https://shantideva.org.il/event/%d7%9e%d7%93%d7%99%d7%98%d7%a6%d7%99%d7%99%d7%aa-%d7%a9%d7%90%d7%9e%d7%98%d7%94-%d7%9e%d7%95%d7%93%d7%a8%d7%9b%d7%aa
ATTACH;FMTTYPE=image/jpeg:https://shantideva.org.il/wp-content/uploads/2021/02/photo-1489908990827-08a75c580832-scaled.jpeg
END:VEVENT
END:VCALENDAR