BEGIN:VCALENDAR
VERSION:2.0
PRODID:-//לימוד ותרגול בודהיזם טיבטי, שנטידווה FPMT ישראל - ECPv5.2.1//NONSGML v1.0//EN
CALSCALE:GREGORIAN
METHOD:PUBLISH
X-WR-CALNAME:לימוד ותרגול בודהיזם טיבטי, שנטידווה FPMT ישראל
X-ORIGINAL-URL:https://shantideva.org.il
X-WR-CALDESC:אירועים ל לימוד ותרגול בודהיזם טיבטי, שנטידווה FPMT ישראל
BEGIN:VTIMEZONE
TZID:Asia/Jerusalem
BEGIN:DAYLIGHT
TZOFFSETFROM:+0200
TZOFFSETTO:+0300
TZNAME:IDT
DTSTART:20200327T000000
END:DAYLIGHT
BEGIN:STANDARD
TZOFFSETFROM:+0300
TZOFFSETTO:+0200
TZNAME:IST
DTSTART:20201024T230000
END:STANDARD
END:VTIMEZONE
BEGIN:VEVENT
DTSTART;TZID=Asia/Jerusalem:20200412T160000
DTEND;TZID=Asia/Jerusalem:20200412T173000
DTSTAMP:20260424T011417
CREATED:20200405T193548Z
LAST-MODIFIED:20200409T174218Z
UID:3313-1586707200-1586712600@shantideva.org.il
SUMMARY:לימוד שבועי עם גשה טנזין זופה A weekly online teaching with Geshe Tenzin Zopa
DESCRIPTION:Sunday\, 12th April 17:30-16:00 \n\n\n\n\n\nלעברית גללו למטה. \n\n\n\nWe are happy to announce that Geshe Tenzin Zopa has kindly accepted our request for teachings and will begin giving us short\, focused lessons through the ZOOM. \n\n\n\nThe subject of the first and second classes will be the Tong-len (taking and giving) practice. \n\n\n\nWith the kind help of Geshe Tenzin Zopa\, we will understand the deep meaning of this powerful practice designed to train the mind and developBodhichitta and gain practice with the guidance of the teacher. A link to the online ZOOM session with the text that we will use during the study will be sent to subscribers. \n\n\n\nThere is no need to register again if you already registered to the previous session. \n\n\n\nRegister\n\n\n\nאנו שמחים לבשר שגשה טנזין זופה נענה לבקשתנו ויתחיל להעביר לנו שיעורים קצרים וממוקדים באמצעות אפלקציית ZOOM. \n\n\n\nנתחיל מלימוד מרוכז של שעה וחצי. תיתכן תוספת זמן למפגשים הבאים בהתאם להלך הרוח ולנכונות התלמידים.  \n\n\n\nאתם מוזמנים להיכנס לעמוד המורה של גשה לה כדי ללמוד עליו מעט יותר. \n\n\n\nשני השיעורים הראשונים יעסקו בתרגול הטונג-לן (לקחת ולתת). \n\n\n\nבעזרתו האדיבה של גשה טנזין זופה נבין את המשמעות העמוקה של התרגול העוצמתי הזה שנועד לאמן את התודעה ולפתח בודהיצ'יטה ונזכה לתרגל ולהתאמן בעזרת הנחיות שייתן המורה.  \n\n\n\nלנרשמים ישלח קישור למפגש ה ZOOM המקוון בצירוף הטקסט שבו נשתמש במהלך הלימוד. \n\n\n\nהמפגשים הבאים יעסקו בטקסט המופלא של "שמונת הפסוקים להתמרת התודעה" מאת לנגרי טנגקפה דורג'ה סנגה. נלמד ונתרגל עם גשה לה שיעניק פרשנות לפסוקים מתוך הספר שכתב בנושא. \n\n\n\nזו הזדמנות להתחבר ולהנות מנקטר הדהרמה ומכל הטוב שמציע לנו גשה טנזין זופה היקר. \n\n\n\nתרגול הטונג-לן (Tong-len) הוא חלק ממסורת התרגולים להתמרת התודעה. מהות התרגול היא לקחת ולתת. התרגול נחשב לתרגול העוצמתי ביותר לפיתוח תודעת הבודהיצ'יטה.  \n\n\n\nהתרגול מעורר את החמלה שבנו ומאפשר לנו לפתוח את הלב ולאפשר לעצמינו להרגיש כאב מבלי לפחד ולעשות בו שימוש כדבר מה מטהר שיוביל אותנו בסופו של דבר להיות אוהבים ונדיבים יותר.  \n\n\n\n"Tong-wa" פירושו להעניק את פוטנציאל הזכות ואת האושר שלך לאחרים. לתת. "Len-pa" פירושו לקחת על עצמך את סבלם ואת הקארמה השלילית של האחרים\, היישר אל תוך לב הוקרת-העצמי ולהרוס את ההוקרה הזו. ריסוק האגו פותח את שערי החמלה.  \n\n\n\nהתרגול של לקחת ולתת מאפשר לנו להתחבר לסבל שלנו ושל כל מה שמצוי סביבנו ובניגוד למה שנראה לנו הגיוני- לרדוף אחר ההנאות ולהימנע מסבל- אנו נהנים משחרור מלא מהאנוכיות ומההיאחזות ב"אני" שמהוות מקור בלתי נדלה לסבל מתמשך. \n\n\n\nאם כבר נרשמתם לשיעור הקודם אין צורך להירשם שוב. \n\n\n\nלהרשמה
URL:https://shantideva.org.il/event/%d7%9c%d7%99%d7%9e%d7%95%d7%93-%d7%a9%d7%91%d7%95%d7%a2%d7%99-%d7%a2%d7%9d-%d7%92%d7%a9%d7%94-%d7%98%d7%a0%d7%96%d7%99%d7%9f-%d7%96%d7%95%d7%a4%d7%94-a-weekly-online-teaching-with-geshe-tenzin-zopa
LOCATION:מקוון (זום)\, Israel
ATTACH;FMTTYPE=image/jpeg:https://shantideva.org.il/wp-content/uploads/2020/03/geshe-tenzin-zopa-featured.jpg
END:VEVENT
END:VCALENDAR