BEGIN:VCALENDAR
VERSION:2.0
PRODID:-//לימוד ותרגול בודהיזם טיבטי, שנטידווה FPMT ישראל - ECPv5.2.1//NONSGML v1.0//EN
CALSCALE:GREGORIAN
METHOD:PUBLISH
X-WR-CALNAME:לימוד ותרגול בודהיזם טיבטי, שנטידווה FPMT ישראל
X-ORIGINAL-URL:https://shantideva.org.il
X-WR-CALDESC:אירועים ל לימוד ותרגול בודהיזם טיבטי, שנטידווה FPMT ישראל
BEGIN:VTIMEZONE
TZID:Asia/Jerusalem
BEGIN:DAYLIGHT
TZOFFSETFROM:+0200
TZOFFSETTO:+0300
TZNAME:IDT
DTSTART:20200327T000000
END:DAYLIGHT
BEGIN:STANDARD
TZOFFSETFROM:+0300
TZOFFSETTO:+0200
TZNAME:IST
DTSTART:20201024T230000
END:STANDARD
END:VTIMEZONE
BEGIN:VEVENT
DTSTART;TZID=Asia/Jerusalem:20200426T160000
DTEND;TZID=Asia/Jerusalem:20200426T173000
DTSTAMP:20260423T233038
CREATED:20200420T112830Z
LAST-MODIFIED:20200420T113818Z
UID:3342-1587916800-1587922200@shantideva.org.il
SUMMARY:לימוד שבועי עם גשה טנזין זופה A weekly online teaching with Geshe Tenzin Zopa
DESCRIPTION:Sunday\, 26th April 16:00-17:30 \n\n\n\n\n\nמפגשי לימד מקוונים עם גשה טנזין זופה בנושא: "שמונת הפסוקים להתמרת התודעה" \n\n\n\nיום ראשון ה- 26.4.2020 מהשעה 16:00 \n\n\n\nA weekly online teaching with Geshe Tenzin Zopa on: "The eight verses of thought transformation" \n\n\n\nSunday 26.4.2020 starting at 16:00 (local time GMT +3) \n\n\n\nFor ENGLISH please scroll down this page \n\n\n\nעם סיומם המוצלח והמבורך של שלושת השיעורים בנושא "טונג-לן" אנו ממשיכים להנות משיעורים נוספים עם גשה לה ומתחילים בלימוד מעמיק של "שמונת הפסוקים להתמרת התודעה". \n\n\n\nבעזרתו האדיבה נכיר מקרוב את הטקסט שנכתב ע"י גשה לאנגרי טנגקפה (1054 עד 1123 אחרי הספירה) ונחשב לאחד הטקסטים החשובים ביותר במסורת תרגולי הלו-ג'ונג (אימון התודעה). לאורך הלימוד ניעזר בפרשנויות שכתב גשה לה ונתרגל בעזרת מדיטציות מונחות. \n\n\n\nלנרשמים ישלחו חומרי הלימוד ופרטי מפגש הזום המקוון במייל. במידה וכבר נרשמתם ללימוד השבועי\, אין צורך להירשם שוב. \n\n\n\nלהרשמה\n\n\n\n \n\n\n\nWe are rejoicing after 3 most beneficial teachings on "Tong-len" and thanks to the kindness of Geshe Tenzin Zopa we continue and begin to study the inspiring text of "The eight verses of thought transformation" that was written by  Geshe Langri Tangkpa (1054-1123). It is considered to be one of the most important texts of the "Lo-jong" practice (mind training). Throughout the teachings we will use Geshe Tenzin Zopa's commentaries along with the root text and practice guided meditations. \n\n\n\nRegistered students will receive written material and details of the zoom meeting by email. If you have already registered to the weekly teachings you don't need to register again. \n\n\n\nRegister
URL:https://shantideva.org.il/event/%d7%9c%d7%99%d7%9e%d7%95%d7%93-%d7%a9%d7%91%d7%95%d7%a2%d7%99-%d7%a2%d7%9d-%d7%92%d7%a9%d7%94-%d7%98%d7%a0%d7%96%d7%99%d7%9f-%d7%96%d7%95%d7%a4%d7%94-a-weekly-online-teaching-with-geshe-tenzin-zopa-3
LOCATION:מקוון (זום)\, Israel
ATTACH;FMTTYPE=image/jpeg:https://shantideva.org.il/wp-content/uploads/2020/03/geshe-tenzin-zopa-featured.jpg
END:VEVENT
END:VCALENDAR