BEGIN:VCALENDAR
VERSION:2.0
PRODID:-//לימוד ותרגול בודהיזם טיבטי, שנטידווה FPMT ישראל - ECPv5.2.1//NONSGML v1.0//EN
CALSCALE:GREGORIAN
METHOD:PUBLISH
X-WR-CALNAME:לימוד ותרגול בודהיזם טיבטי, שנטידווה FPMT ישראל
X-ORIGINAL-URL:https://shantideva.org.il
X-WR-CALDESC:אירועים ל לימוד ותרגול בודהיזם טיבטי, שנטידווה FPMT ישראל
BEGIN:VTIMEZONE
TZID:Asia/Jerusalem
BEGIN:DAYLIGHT
TZOFFSETFROM:+0200
TZOFFSETTO:+0300
TZNAME:IDT
DTSTART:20230324T000000
END:DAYLIGHT
BEGIN:STANDARD
TZOFFSETFROM:+0300
TZOFFSETTO:+0200
TZNAME:IST
DTSTART:20231028T230000
END:STANDARD
END:VTIMEZONE
BEGIN:VEVENT
DTSTART;TZID=Asia/Jerusalem:20231125T100000
DTEND;TZID=Asia/Jerusalem:20231125T130000
DTSTAMP:20260423T202750
CREATED:20231113T191925Z
LAST-MODIFIED:20231113T192620Z
UID:4222-1700906400-1700917200@shantideva.org.il
SUMMARY:לימודי סוטרות עם יעל אלטרץ
DESCRIPTION:אנו שמחים לבשר שמפגשי הסנגהה של קבוצת שנטידווה מתחדשים! בהנחייתה של יעל אלטרץ   מה נעשה במפגשים? נחזור למדוט יחד\, ונלמד סוטרות קלאסיות ומרתקות המאפשרות מגע עם המתרחש סביבנו ובתוכנו בימים אלו.  \n\n\n\nהסוטרות\, המדיטה והמפגש עם חברים וחברות לדרך יאפשרו לנו להיזכר בנקודת המבט הרחבה\, הטובה והמאפשרת של הדהרמה. מתוך הפרספקטיבה הזו נוכל לפגוש גם את מה שקורה בעולמנו הפנימי בימים קשים ומורכבים אלו.    מתי ואיפה נפגשות? נפגש פעם בשבועיים\, בימי שבת בבוקר\, כאשר המפגש הראשון יתקיים ב25.11.23 בשעות 10:30-13:00 עם הפסקת קפה/תה באמצע. \n\n\n\nלנרשמים תנתן כתובת מדויקת של מקום הפגש ולינק מצורף לזום. \n\n\n\nלהרשמה
URL:https://shantideva.org.il/event/%d7%9c%d7%99%d7%9e%d7%95%d7%93%d7%99-%d7%a1%d7%95%d7%98%d7%a8%d7%95%d7%aa-%d7%a2%d7%9d-%d7%99%d7%a2%d7%9c-%d7%90%d7%9c%d7%98%d7%a8%d7%a5-2/2023-11-25
ATTACH;FMTTYPE=image/jpeg:https://shantideva.org.il/wp-content/uploads/2022/10/karun-giri-3_7cJzGuEPE-unsplash-scaled.jpg
END:VEVENT
END:VCALENDAR