BEGIN:VCALENDAR
VERSION:2.0
PRODID:-//לימוד ותרגול בודהיזם טיבטי, שנטידווה FPMT ישראל - ECPv5.2.1//NONSGML v1.0//EN
CALSCALE:GREGORIAN
METHOD:PUBLISH
X-WR-CALNAME:לימוד ותרגול בודהיזם טיבטי, שנטידווה FPMT ישראל
X-ORIGINAL-URL:https://shantideva.org.il
X-WR-CALDESC:אירועים ל לימוד ותרגול בודהיזם טיבטי, שנטידווה FPMT ישראל
BEGIN:VTIMEZONE
TZID:Asia/Jerusalem
BEGIN:DAYLIGHT
TZOFFSETFROM:+0200
TZOFFSETTO:+0300
TZNAME:IDT
DTSTART:20250328T000000
END:DAYLIGHT
BEGIN:STANDARD
TZOFFSETFROM:+0300
TZOFFSETTO:+0200
TZNAME:IST
DTSTART:20251025T230000
END:STANDARD
END:VTIMEZONE
BEGIN:VEVENT
DTSTART;TZID=Asia/Jerusalem:20251111T140000
DTEND;TZID=Asia/Jerusalem:20251111T210000
DTSTAMP:20260424T024157
CREATED:20250907T140348Z
LAST-MODIFIED:20251027T074829Z
UID:4375-1762869600-1762894800@shantideva.org.il
SUMMARY:לאבאב דוצ'ן -   Lha Bab Düchen
DESCRIPTION:בשמחה רבה נבשר שהנזירה היקרה אני לוסאנג שהגיעה לארץ כאורחת של עמותת "ידידי הדהרמה בישראל" נענתה להזמנה של קבוצתנו להנחות שלושה טקסי ריטואל בודהיסטיים. \n\n\n\nמורתנו אני לוסאנג תוביל אותנו ביום תרגול חגיגי לכבוד ה'לבאב דוצ'אן'\, היום בו הבודהה ירד חזרה מממלכת האל של השלושים ושלושה\, לאחר שחלק את הדהרמה עם האֵלים ועם אמו. \n\n\n\nיום חג זה כמו שאר החגים הבודהיסטים\, הוא יום שבו הפעולות הקארמיות חזקות פי מאה מיליון.\nעל פי עצתו של לאמה זופה רינפוצה\, זהו יום שבו קיימת הזדמנות מושלמת לעסוק ברצינות בתרגול שלנו ובכך להגביר את צבירת המריט שלנו. \n\n\n\nנתרגל בדירה של ניצן ואילאיל. שמעון התרסי 43 תל אביב.\n(קומה 2\, דירה 9 קוד 4343) לפרטים נוספים ניתן ליצור קשר עם ניצן 0547612167 \n\n\n\nבתכנון: \n\n\n\n7:00 (רק בזום) – לא פיזית – לקיחה משותפת של 8 נדרי המאיאנה\n\n\n\n14:00-14:30 – התכנסות והכנת האלטר במשותף\n14:30-15:30 – קריאת סוטרת "היזכרות בשלושת האבנים היקרות"+ דקלום 108 השמות של מנג'ושרי\n15:30-16:00 – הפסקה\n16:00-17:30 – קריאה בסוטרת Vajra Cutter Sutra\n17:30-18:00 – הפסקה\n18:00-21:00 – שאקימוני בודהה פוג'הה \n\n\n\nניתן להצטרף לתרגולים בכל שלב של היום לפי מנ שמתאים לכם.ן. ניתן להביא מנחות לאלטר. \n\n\n\nדאנה תנתן דרך האתר של ידידי הדהרמה   https://www.dharma-friends.org.il/dhana/   נא לציין שזה עבור אני לוסאנג. \n\n\n\nהתרגול יועבר גם בזום בלינק https://us02web.zoom.us/j/81567040249 עם הסיסמא 1234 \n\n\n\nאני לוסנג  – מורה מרתקת\, נזירה ממוצא שווצרי\, מלמדת ומנחה באנגלית את המתרגלים הישראלים מזה כ30 שנה.
URL:https://shantideva.org.il/event/%d7%9c%d7%90%d7%91%d7%90%d7%91-%d7%93%d7%95%d7%a6%d7%9f-lha-bab-duchen
CATEGORIES:אני לוסנג 2025
ATTACH;FMTTYPE=image/png:https://shantideva.org.il/wp-content/uploads/2025/09/Screenshot-2025-09-07-at-17.03.07.png
END:VEVENT
END:VCALENDAR