BEGIN:VCALENDAR
VERSION:2.0
PRODID:-//לימוד ותרגול בודהיזם טיבטי, שנטידווה FPMT ישראל - ECPv5.2.1//NONSGML v1.0//EN
CALSCALE:GREGORIAN
METHOD:PUBLISH
X-WR-CALNAME:לימוד ותרגול בודהיזם טיבטי, שנטידווה FPMT ישראל
X-ORIGINAL-URL:https://shantideva.org.il
X-WR-CALDESC:אירועים ל לימוד ותרגול בודהיזם טיבטי, שנטידווה FPMT ישראל
BEGIN:VTIMEZONE
TZID:Asia/Jerusalem
BEGIN:DAYLIGHT
TZOFFSETFROM:+0200
TZOFFSETTO:+0300
TZNAME:IDT
DTSTART:20210326T000000
END:DAYLIGHT
BEGIN:STANDARD
TZOFFSETFROM:+0300
TZOFFSETTO:+0200
TZNAME:IST
DTSTART:20211030T230000
END:STANDARD
END:VTIMEZONE
BEGIN:VEVENT
DTSTART;TZID=Asia/Jerusalem:20211027T190000
DTEND;TZID=Asia/Jerusalem:20211027T203000
DTSTAMP:20260423T215753
CREATED:20211015T100116Z
LAST-MODIFIED:20211024T093212Z
UID:3951-1635361200-1635366600@shantideva.org.il
SUMMARY:חג הלאבאב דוצ'ן
DESCRIPTION:"בודהה מעולם לא שם דגש רב על האמונה. במקום זאת\, הוא עודד אותנו לחקור ולנסות להבין את המציאות של ישותנו שלנו. \n\n\n\nהוא מעולם לא הדגיש כי עלינו לדעת מה הוא\, מהו בודהה. כל מה שהוא רצה הוא שנבין את הטבע שלנו\, את טבע התודעה שלנו. \n\n\n\nהאין זה כל כך פשוט? אנחנו לא צריכים להאמין בשום דבר. פשוט\, על ידי המאמץ והחקירה הנכונים\,  נוכל לחוות ולהבין מתוך הנסיון האישי שלנו\, וכך ובהדרגה נוכל לפתח את כל הפוטנציאלים המיטיבים הטמונים בנו." \n\n\n\nמתוך הספר "היה המטפל של עצמך"- מאת לאמה ישה \n\n\n\nהשנה\, נחגוג את ה'לבאב דוצ'אן' ביום רביעי ה- 27  לאוקטובר בשעה 19:00. בהנחייתה של הנזירה היקרה לוזאן יונטן נקיים את פוג'ת הבודהה שאקיימוני הנפלאה ושופעת החמלה.  \n\n\n\nה'לבאב דוצ'אן'\, היום בו נאמר שהבודהה ירד מממלכת האל של השלושים ושלושה\, לאחר שחלק את הדהרמה עם האֵלים ועם אמו. יום חג זה כמו שאר החגים הבודהיסטים\, הוא יום שבו הפעולות הקארמיות חזקות פי מאה מיליון. \n\n\n\nעל פי עצתו של לאמה זופה רינפוצה\, זהו יום שבו קיימת הזדמנות מושלמת לעסוק ברצינות בתרגול שלנו ובכך להגביר את צבירת המריט שלנו. \n\n\n\nאתם מוזמנים להצטרף אלינו בלינק.  \n\n\n\nhttps://us02web.zoom.us/j/88999712073 \n\n\n\nומכאן ניתן להוריד את הטקסט שממנו נקראהורד\n\n\n\nבנוסף מצורף לינק פעילויות מומלצות ללאבאב דוצ׳ן על ידי לאמה זופה רינפוצ׳ה. \n\n\n\nולינק לתמיכת הפוג׳ות שלאמה זופה רינפוצ׳ה מארגן בלאבאב דוצ׳ן הזה.
URL:https://shantideva.org.il/event/%d7%97%d7%92-%d7%94%d7%9c%d7%90%d7%91%d7%90%d7%91-%d7%93%d7%95%d7%a6%d7%9f
ATTACH;FMTTYPE=image/jpeg:https://shantideva.org.il/wp-content/uploads/2021/10/offering-khatas-at-Boudha-Stupa-Jan-2021.jpeg
END:VEVENT
END:VCALENDAR