BEGIN:VCALENDAR
VERSION:2.0
PRODID:-//לימוד ותרגול בודהיזם טיבטי, שנטידווה FPMT ישראל - ECPv5.2.1//NONSGML v1.0//EN
CALSCALE:GREGORIAN
METHOD:PUBLISH
X-WR-CALNAME:לימוד ותרגול בודהיזם טיבטי, שנטידווה FPMT ישראל
X-ORIGINAL-URL:https://shantideva.org.il
X-WR-CALDESC:אירועים ל לימוד ותרגול בודהיזם טיבטי, שנטידווה FPMT ישראל
BEGIN:VTIMEZONE
TZID:Asia/Jerusalem
BEGIN:DAYLIGHT
TZOFFSETFROM:+0200
TZOFFSETTO:+0300
TZNAME:IDT
DTSTART:20240329T000000
END:DAYLIGHT
BEGIN:STANDARD
TZOFFSETFROM:+0300
TZOFFSETTO:+0200
TZNAME:IST
DTSTART:20241026T230000
END:STANDARD
END:VTIMEZONE
BEGIN:VEVENT
DTSTART;TZID=Asia/Jerusalem:20240831T183000
DTEND;TZID=Asia/Jerusalem:20240831T210000
DTSTAMP:20260423T215956
CREATED:20240818T164239Z
LAST-MODIFIED:20240818T165527Z
UID:4266-1725129000-1725138000@shantideva.org.il
SUMMARY:הזמנה לטקס פּוּגַ'ת אֵש לטיהור
DESCRIPTION:לשמחתנו הרבה\, בעת המאתגרת הזו\, הגיעה ארצה לביקור קצר מאיה חורב היקרה ובהנחייתה נוכל לקיים את טקס פוג'ת האש העוצמתי להסרת מכשולים ולטיהור קארמה שלילית. \n\n\n\nאנחנו נקיים את הטקס במסורת תרגול הטנטרה הנמוכה כמובן כדי לאפשר לכל מי שמגלה עניין להגיע\, להשתתף ולתרגל ללא צורך בהעצמה כלשהי. \n\n\n\nזוהי ללא ספק הזדמנות אדירה לחבור יחדיו כסנגהה\, לחבר אנרגיות ולתעל את השאיפות ומשאלות הלב לטובת הרגעת המצב האזורי באופן המיטיב ביותר\, לחיזוק חֹסנם המנטלי והפיזי של החטופות והחטופים ובני משפחותיהם ולשאת תפילה להבשלתה של קארמה חיובית שתוביל לשחרור החטופים\, להבראתם המלאה של כל הפצועים באזור שותת הדם שלנו ולשינויים חיוביים מרחיקי לכת שייטיבו עם כולנו\, עם הורינו\, משפחתינו\, שכנינו\, חברינו ויאפשרו לכל היצורים בעלי התודעה החלמה מלאה מכל חולי מנטלי ופיזי כאחד. \n\n\n\nבמהלך הפוג'ה נוכל להציע כמִנְחות לישוּת הנִרְתֶּמֶת דורג'ה קהאדרו (המגלמת את חכמת האש של הבודהה בהיבט הזועם)\, את כל הבעיות שלנו\, המחלות\, הרגשות העוכרים\, החרטות\, החרדות והפחדים\, על גבי פיסות נייר קטנות שיונחו בתוך האש\, יחד עם מרכיבים נוספים. \n\n\n\n זוהי דרך רבת עוצמה לטהר את הבעיות והקשיים שנערמו בדרכנו\, לטהר טעויות ופעולות שליליות שאולי ביצענו או דברים הרסניים שאולי אמרנו.  \n\n\n\nהפוג'ה תתקיים בקיבוץ מעברות\, בעמק חפר\, ביום שבת ה31.8.2024 בשעה 18:30 (צפי לסיום\, כולל הכנות והתארגנות\, בשעה 21:00) \n\n\n\nאם ברצונך להגיע ולהשתתף חשוב מאד להירשם באמצעות טופס ההרשמה כאן \n\n\n\nלהרשמה\n\n\n\nלנרשמות/נרשמים ישלחו עדכונים לגבי מיקום מדויק\, מהנדרש להביא והסברים וטקסטים שישמשו אותנו במהלך הפוג'ה. \n\n\n\nכמה מילים מתוך העצה שנתן לאמה זופה רינפוצ'ה בנושא פוג'וֹת האֵש: \n\n\n\nתורותיה הסודיות של המַהַאיָיאנָה וָאגְ'רַאיָינָה כוללות את התרגול של "הבערת מִנחות" (טיבטית: jin.sek). כל פריט המוגש כמִנְחה בוערת במהלך הפוג'ות מותאם לטובת מטרה כלשהי. לכל מרכיב יש כוח פוטנציאלי להשפיע על חייך. המִנחות המורכבות ממגוון חומרים מיועדות להרגעת מחלות ופיתוח חוסן\, לחיים ארוכים\, לטיהור זיהומים\, לרווחה וכו'. כל החומרים המוצעים נועדו למַמֵש פוטנציאלים וסוגי הצלחה שונים. \n\n\n\nבדרך כלל\, פּוּג'וֹת האש מוצעות בסופם של ריטריטים נרחבים או ריטריטים קצרים המתרכזים בישויות המוארות. באופן כללי קיימים ארבעה סוגים של פוג'ות אש והמשותף לכולן הוא טיהור גורמים עוכרים ומכתימים וטיהור הקארמה השלילית. \n\n\n\nלהציע כמִנְחָה את פוג'ת האש לדורג'ה קהאדרו\, הינו אחד התרגולים העמוקים ביותר לטיהור\, הנחשב לדהרמה מוזהבת\, יקרת-ערך. זהו תרגול הלב של לאמה צונגקאפה וההולכים בדרכו מתרגלים את פוג'ת האש הזו ביודעם כי היא מיטיבה במיוחד.  \n\n\n\nלהזכירכם\, כל הפעילויות של הקבוצה מוצעות ומתקיימות על בסיס דאנה\, תרגול נדיבות הלב החשוב כל כך. הדאנה הנאספת מוענקת למורה על מנת להביע את הערכתנו ללימוד ולתרגול יקרי הערך שהוענקו לנו וגם על מנת לאפשר לה להמשיך בהתפתחותה הרוחנית כך שתוכל לחזור וללמד אותנו כדי שנוכל גם אנחנו להתקדם בדרך. ההדדיות הזו של לב פתוח ונדיב היא בבסיס הדהרמה. ניתן להעביר דאנה במזומן או בדרכים המפורטות כאן \n\n\n\nמצפות ומצפים לראותכם ולתרגל בצוותא\, \n\n\n\nהצוות המנהל של קבוצת הלימוד "שנטידווה FPMT ישראל"
URL:https://shantideva.org.il/event/%d7%94%d7%96%d7%9e%d7%a0%d7%94-%d7%9c%d7%98%d7%a7%d7%a1-%d7%a4%d6%bc%d7%95%d6%bc%d7%92%d6%b7%d7%aa-%d7%90%d6%b5%d7%a9-%d7%9c%d7%98%d7%99%d7%94%d7%95%d7%a8
ATTACH;FMTTYPE=image/jpeg:https://shantideva.org.il/wp-content/uploads/2024/08/maxim-tajer-x3S1aGQNgro-unsplash-scaled.jpg
END:VEVENT
END:VCALENDAR