BEGIN:VCALENDAR
VERSION:2.0
PRODID:-//לימוד ותרגול בודהיזם טיבטי, שנטידווה FPMT ישראל - ECPv5.2.1//NONSGML v1.0//EN
CALSCALE:GREGORIAN
METHOD:PUBLISH
X-WR-CALNAME:לימוד ותרגול בודהיזם טיבטי, שנטידווה FPMT ישראל
X-ORIGINAL-URL:https://shantideva.org.il
X-WR-CALDESC:אירועים ל לימוד ותרגול בודהיזם טיבטי, שנטידווה FPMT ישראל
BEGIN:VTIMEZONE
TZID:Asia/Jerusalem
BEGIN:DAYLIGHT
TZOFFSETFROM:+0200
TZOFFSETTO:+0300
TZNAME:IDT
DTSTART:20250328T000000
END:DAYLIGHT
BEGIN:STANDARD
TZOFFSETFROM:+0300
TZOFFSETTO:+0200
TZNAME:IST
DTSTART:20251025T230000
END:STANDARD
END:VTIMEZONE
BEGIN:VEVENT
DTSTART;TZID=Asia/Jerusalem:20250319T000000
DTEND;TZID=Asia/Jerusalem:20250323T235959
DTSTAMP:20260424T025000
CREATED:20241014T190244Z
LAST-MODIFIED:20250112T105506Z
UID:4271-1742342400-1742774399@shantideva.org.il
SUMMARY:האושר שבשלווה – ריטריט שמאטה מרץ 2025
DESCRIPTION:מנחה: פרנסואה שיק\n\n\n\nתאריכים: 19-23 במרץ 2025 (ימים רביעי עד ראשון)\n\n\n\nמקום: מצפה רמון\n\n\n\nאחרי ביקור מוצלח בקיץ 2024\, במסגרתו פגשנו את פרנסואה שיק לריטריט שמאטה קצר של 3 ימים\, אנו שמחים להודיע שפרנסואה ישוב אלינו במרץ 2025 לריטריט נוסף. \n\n\n\nהפעם הריטריט יהיה של חמישה ימים\, במהלכו נוכל להעמיק קצת יותר בתרגול ובמיומנויות הניתנות לנו. \n\n\n\nרקע כללי: \n\n\n\nשמאטה הוא מונח בסנסקריט שמתייחס לתודעה מרוכזת וממוקדת\, מצב של שהייה בשלווה. על ידי עידון יכולת המיקוד שלנו ולימוד הטכניקה\, נוכל להיות הרבה יותר שלוים\, פיזית ומנטלית. מצב זה מאפשר לנו תובנות רוחניות הרבה יותר עמוקות. כאשר התודעה צלולה ויציבה\, לכל תרגול שלנו יהיה כוח טרנספורמטיבי רב יותר. בסיס זה של ריכוז יאיץ התפתחות שלנו\, טיפוח מיומנויות\, ויסייע בשינוי הרגלים. \n\n\n\nאנו נלמד בריטריט זה את הטכניקה לפיתוח מצבי ריכוז גבוהים יותר.  \n\n\n\nהלימוד יסתמך על מצגת של לאמה צוגקאפה\, המלומד והיוגי הטיבטי מהמאה ה-14. אין ספק שבתוך כל הספרות הבודהיסטית הטיבטית\, ובכלל בתוך כל העולם הבודהיסטי\, ישנן מעט מאוד מצגות מפורטות\, מדויקות ומלאות כמו זו המוצגת בספרו Lamrim Chenmo. \n\n\n\nייחודו של פרנסואה – כפי שראינו בריטריט הקיץ איתו – הוא היכולת לגשר בין המאה ה- 14 לימינו אנו\, בצורה מקורית\, מצחיקה\, מרתקת וחיה. בעזרתו הלימוד קם לתחייה והופך בַּרור ליישום.  \n\n\n\nלא רק זאת\, פרנסואה מעורר את הרצון לתרגל\, להעמיק ולהתנסות. הלימוד והטכניקה מוגשים כך שהתרגול מרגיש אפשרי\, גם למי שחווה קשיים בעבר בנושא. הוא מוביל אותנו צעד אחר צעד לעבר הצלחה בתרגול.  \n\n\n\nבמשך הריטריט ינתן זמן למפגשים אישיים עם פרנסואה\, לצורך התייעצות על תרגול אישי. \n\n\n\n\n\n\n\nקצת על פרנסואה שיק: \n\n\n\nלמעלה מ-15 שנים\, פרנסואה מתרגל מדיטציה\, מקדיש את חייו לדהרמה ובמיוחד לפיתוח של  שמאטה/ שהייה בשלווה. הוא למד את המסורת הגלוג וקיים מספר רב של ריטריטים עצמיים ממוקדים בפיתוח שאמטה; כולל שישה חודשים בהרי האלפּים\, תחת הנחיה אישית של אלן וואלאס. כיום הוא מלמד במרכז קלאצ'קרה FPMT בצרפת. בשנים האחרונות הוא עובד על ספר בנושא שמאטה.  \n\n\n\nהמיקום: \n\n\n\nחוות האלפקות במצפה רמון. \n\n\n\nהלינה הינה ביורטים מרווחים מאד. בכל יורט ילונו 4 א.נשים.  \n\n\n\n\n\n\n\nהיורטים נעימים ומאובזרים ובנויים על דק עץ. הם כוללים את כל מה שאירוח מדברי איכותי צריך: מזגן\, שקעי חשמל\, מנורת לילה אישית וכמובן מיטות עם מצעים ומגבות מפנקים. בכל יורט שירותים פרטיים וכיור ומרפסת עם פינת ישיבה נעימה.  \n\n\n\nבצמוד למתחם היורטים ישנם 9 תאים אישיים של מקלחות + תאי שירותים נוספים.  \n\n\n\nהיכל התרגול חדש – הכל רק מחכה לנו שנגיע לאווירה הקסומה של המדבר שתתמוך בנו. \n\n\n\nנזכיר שבמרץ קריר בלילות\, כדאי להביא בגדים חמים. \n\n\n\nדוגמה של יום בריטריט: \n\n\n\nשימו לב – כל לו"ז יותאם לקבוצה. יתכנו שינויים של הרגע האחרון. \n\n\n\n06:45 – סשן בוקר \n\n\n\n07:30 – ארוחת בוקר \n\n\n\n09:00 – לימוד ותרגול \n\n\n\n10:00 – הפסקה \n\n\n\n10:45 – לימוד ותרגול \n\n\n\n11:45 – ארוחת צהריים וזמן אישי \n\n\n\n14:00 – קבוצות דיון \n\n\n\n15:00 – לימוד ותרגול \n\n\n\n16:00 – הפסקה \n\n\n\n16:45 – לימוד ותרגול \n\n\n\n18:00 – ארוחת ערב \n\n\n\n19:30 – סשן ערב \n\n\n\nלתשומת ליבכם.ן נותרו מקומות בודדים בלבד. \n\n\n\nהעלות לאדם ל-4 לילות + 12 ארוחות הינה בסך: 1\,800 ₪. \n\n\n\n*במידה והינך זקוק/ה לעזרה במילגה אנא ציין/י זאת בטופס ההרשמה \n\n\n\n** אופציות הלינה באחת מארבע הבקתות הנמצאות בקצה החווה\, כבר אינה רלוונטית. מי שהקדימו להירשם וביקשו\, שובצו בשלוש מהן תמורת העלות המתאימה כמובן\, ובבקתה הרביעית ילון המורה. \n\n\n\n***העלות אינה כוללת את הדאנה שתעניקו למורה ואינה כוללת את הוצאות העמותה הנילוות (כרטיס הטיסה\, כיבוד\, העלויות של אירוח המורה ועוד) \n\n\n\n****רשימת טרמפים ואפשרויות לנסיעה משותפת תשלח לנרשמים בסמוך למועד הריטריט כך שתוכלו להתארגן בזמן. \n\n\n\nעל מנת לשריין את מקומך להלן פרטים טכניים חשובים עם מילוי טופס ההרשמה: \n\n\n\nלתשומת ליבך\, יחד עם מילוי טופס ההרשמה יש להעביר דמי רישום בסך 300 ₪\, על מנת להבטיח את מקומך. מכיוון שהעמותה משלמת למקום האירוח מקדמה לא תהיה אפשרות לקבל החזר (*אך כמובן שנדון בכל עניין לגופו). הסכום יקוזז מהתשלום הסופי עבור הריטריט. \n\n\n\nלהרשמה\n\n\n\nנא לצלם את אישור ההעברה ולשלוח לנו את הצילום במייל ל: fpmtisrael@gmail.com  עם הכותרת: דמי רישום לריטריט מאת- שם ושם משפחה \n\n\n\nאת הסכום ניתן להעביר באמצעות פייפאל בלחיצה כאן \n\n\n\nאו באמצעות העברה בנקאית ל: \n\n\n\nבנק הדואר (מס' 9) \n\n\n\nסניף 001 \n\n\n\nשם המוטב: לימוד ותרגול מדיטטיבי (ע"ר) \n\n\n\nמס' חשבון: 28512681 \n\n\n\nגם בפייפאל וגם בהעברה הבנקאית חשוב מאד לרשום: עבור דמי רישום לריטריט. אנא הקפידו לעשות זאת. תודה \n\n\n\nאת יתרת התשלום ניתן להעביר לכל המאוחר עד לתאריך ה- 10.3.2025 (יום ב')
URL:https://shantideva.org.il/event/%d7%94%d7%90%d7%95%d7%a9%d7%a8-%d7%a9%d7%91%d7%a9%d7%9c%d7%95%d7%95%d7%94-%d7%a8%d7%99%d7%98%d7%a8%d7%99%d7%98-%d7%a9%d7%9e%d7%90%d7%98%d7%94-%d7%9e%d7%a8%d7%a5-2025
ATTACH;FMTTYPE=image/jpeg:https://shantideva.org.il/wp-content/uploads/2021/02/photo-1489908990827-08a75c580832-scaled.jpeg
END:VEVENT
END:VCALENDAR