BEGIN:VCALENDAR
VERSION:2.0
PRODID:-//לימוד ותרגול בודהיזם טיבטי, שנטידווה FPMT ישראל - ECPv5.2.1//NONSGML v1.0//EN
CALSCALE:GREGORIAN
METHOD:PUBLISH
X-WR-CALNAME:לימוד ותרגול בודהיזם טיבטי, שנטידווה FPMT ישראל
X-ORIGINAL-URL:http://shantideva.org.il
X-WR-CALDESC:אירועים ל לימוד ותרגול בודהיזם טיבטי, שנטידווה FPMT ישראל
BEGIN:VTIMEZONE
TZID:Asia/Jerusalem
BEGIN:DAYLIGHT
TZOFFSETFROM:+0200
TZOFFSETTO:+0300
TZNAME:IDT
DTSTART:20240329T000000
END:DAYLIGHT
BEGIN:STANDARD
TZOFFSETFROM:+0300
TZOFFSETTO:+0200
TZNAME:IST
DTSTART:20241026T230000
END:STANDARD
END:VTIMEZONE
BEGIN:VEVENT
DTSTART;TZID=Asia/Jerusalem:20240413T103000
DTEND;TZID=Asia/Jerusalem:20240413T133000
DTSTAMP:20260425T042112
CREATED:20240409T173513Z
LAST-MODIFIED:20240409T173514Z
UID:4251-1713004200-1713015000@shantideva.org.il
SUMMARY:מפגש סנגהה עם יעל אטלרץ
DESCRIPTION:יקרות יקרים\, מפגש הסנגהה הקבוצתי הקרוב שלנו יתקיים ביום שבת ה 13.4- החל מהשעה 10:30 ועד לשעה 13:30 בתל אביב.ברחבי העולם\, בלמעלה מ170- מרכזי הלימוד של ארגון FPMT\, יציינו ביום המיוחד הזה שנה למעברו מן העולם של מורה הרוח היקר לאמה זופה רינפוצ'ה שייסד את הארגון יחד עם לאמה ישה.אומרים שאחד התרגולים החשובים הוא לזכור את טוב ליבו של המורה שלנו. ובכן\, לפעמים טוב לב אינו ישיר. אנו לא חייבים לפגוש באדם כדי להנות מטוב ליבו\, וכך זה פעמים רבות במקרים של מורים גדולים. אולי חלקנו לא פגש אותם אישית\, אבל כולנו נהנים מטוב ליבם – מתוכניות הלימוד שיצרו\, מהמקומות שמלמדים אותנו בזכותם (טושיטה\, קופאן וכו)\, מהספרים והידע שהעבירו אלינו וכו'.לכן בשבת הקרובה – חלקו הראשון של המפגש יתמקד בלאמה זופה ויעניק לכולנו את ההשראה למוטיבציה האולטימטיבית.במהלך חלקו השני של המפגש נקרא קטעים מההסבר של לאמה זופה על הבודהה המרפא מתוך ספרו – כוחה של מנטרה.בהנחיתה האדיבה של יעל נעבור על המשמעויות של הקטעים המצורפים.נסיים את המפגש המיוחד הזה בתרגול עוצמתי ששמו "גוף האור"\, הלקּוח מתוך ספרה של הנזירה היקרה סנגייה קאדרו\, "כיצד למדוט?". נתרגל את גוף האור הכחול של בודהה המרפא.אתם מוזמנות ומוזמנים להביא כיבוד קל להפסקת התה/קפה שלנו ובהזדמנות הזו נזכיר לכולנו שכל המפגשים מוענקים ביד רחבה בהתבסס על דאנה- התרגול החשוב כל-כך של נדיבות הלב. כל אחד ואחת מעניקים דאנה כפי יכולתם על מנת לשמר את ההיזון החוזר היפה\, החשוב ושופע ההודייה לזכות שנפלה בחלקנו להנות מלימוד הדהרמה.אם אין באפשרותכם.ן להגיע פיזית תוכלו להצטרף אלינו בזום. \n\n\n\nלקבלת כל הפרטים הרשמו.  \n\n\n\nנשמח לראותכם.ן בשבת הקרובה ולהנות בצוותא\, שלכם\, הצוות המנהל של קבוצת הלימוד שנטידווה FPMT ישראל  \n\n\n\nלהרשמה
URL:http://shantideva.org.il/event/%d7%9e%d7%a4%d7%92%d7%a9-%d7%a1%d7%a0%d7%92%d7%94%d7%94-%d7%a2%d7%9d-%d7%99%d7%a2%d7%9c-%d7%90%d7%98%d7%9c%d7%a8%d7%a5
ATTACH;FMTTYPE=image/png:http://shantideva.org.il/wp-content/uploads/2024/04/Screenshot-2024-04-09-at-20.33.12.png
END:VEVENT
BEGIN:VEVENT
DTSTART;TZID=Asia/Jerusalem:20240427T103000
DTEND;TZID=Asia/Jerusalem:20240427T133000
DTSTAMP:20260425T042112
CREATED:20240423T181707Z
LAST-MODIFIED:20240423T181858Z
UID:4255-1714213800-1714224600@shantideva.org.il
SUMMARY:מפגש סנגהה עם יעל אטלרץ
DESCRIPTION:בשבת הקרובה ב 10:30 ניפגש למפגש הסנגהה בצפון תל אביב.  \n\n\n\nבמפגש הקרוב נמשיך ללמוד עם יעל אלטרץ סוטרות מתוך הקאנון הפאלי (בתרגומו של אסף פדרמן) מתוך טקסט שנקרא הדהמהפדה – 'דברי אמת'. יעל בחרה להתמקד בפרק 8 שקרוי – "אלפים". לאור העובדה שאנו בחג החירות\, והנושא של לחימה\, חופש\, שחרור וכו' רלוונטיים וכואבים כל כך\, עלתה מחשבה שיהיה נכון לשהות בזה קצת\, ולדון בזה\, ובפרט בשורות אלו על משמעותיהן הרבות: \n\n\n\nאפילו יביס אלף אלפי אנשים \n\n\n\nבקרב\, \n\n\n\nזה שניצח אחד – את עצמו – \n\n\n\nהוא המנצח בקרב הגדול מכולם. \n\n\n\nלאחר מכן נתחבר  לטקסט של תיך נאת האן – "קרא לי בשמותי האמיתיים".שני הטקסטים מצורפים כאן לעיונכם לפני השיעור בשפה העברית והאנגלית (וגם קצת על הרקע לכתיבת הטקסט של תיך נאת האן).כולם.ן מוזמנים ומוזמנות להעמיק לחשוב ולנסות לפגוש את הנאמר מכמה שיותר זוויות. \n\n\n\nיעל מוסרת שהיא מחכה מאד להיפגש ולדון בזה יחד\, ולשהות יחד בשמחת חג החירות בצד כאבי המלחמה והחטופים. \n\n\n\nובהזדמנות הזו נזכיר לכולנו שכל המפגשים מוענקים ביד רחבה בהתבסס על דאנה- התרגול החשוב כל-כך של נדיבות הלב. כל אחד ואחת מעניקים דאנה כפי יכולתם על מנת לשמר את ההיזון החוזר היפה\, החשוב ושופע ההודיָיה לַזְכות שנפלה בחלקנו להנות מלימוד הדהרמה. \n\n\n\nלקבלת המיקום המדויק ופרטי הגעה בנוסף ללינק לזום אנא הירשמו.  \n\n\n\nלהרשמה\n\n\n\nנשמח לראותכם.ן בשבת הקרובה ולהנות בצוותא\, שלכם\, הצוות המנהל של קבוצת הלימוד שנטידווה FPMT ישראל
URL:http://shantideva.org.il/event/%d7%9e%d7%a4%d7%92%d7%a9-%d7%a1%d7%a0%d7%92%d7%94%d7%94-%d7%a2%d7%9d-%d7%99%d7%a2%d7%9c-%d7%90%d7%98%d7%9c%d7%a8%d7%a5-2
ATTACH;FMTTYPE=image/jpeg:http://shantideva.org.il/wp-content/uploads/2020/04/world-peace.jpg
END:VEVENT
END:VCALENDAR