BEGIN:VCALENDAR
VERSION:2.0
PRODID:-//לימוד ותרגול בודהיזם טיבטי, שנטידווה FPMT ישראל - ECPv5.2.1//NONSGML v1.0//EN
CALSCALE:GREGORIAN
METHOD:PUBLISH
X-WR-CALNAME:לימוד ותרגול בודהיזם טיבטי, שנטידווה FPMT ישראל
X-ORIGINAL-URL:http://shantideva.org.il
X-WR-CALDESC:אירועים ל לימוד ותרגול בודהיזם טיבטי, שנטידווה FPMT ישראל
BEGIN:VTIMEZONE
TZID:Asia/Jerusalem
BEGIN:DAYLIGHT
TZOFFSETFROM:+0200
TZOFFSETTO:+0300
TZNAME:IDT
DTSTART:20220325T000000
END:DAYLIGHT
BEGIN:STANDARD
TZOFFSETFROM:+0300
TZOFFSETTO:+0200
TZNAME:IST
DTSTART:20221029T230000
END:STANDARD
END:VTIMEZONE
BEGIN:VEVENT
DTSTART;TZID=Asia/Jerusalem:20220507T180000
DTEND;TZID=Asia/Jerusalem:20220507T193000
DTSTAMP:20260423T232947
CREATED:20220504T082835Z
LAST-MODIFIED:20220504T082837Z
UID:4073-1651946400-1651951800@shantideva.org.il
SUMMARY:מפגשי סנגהה דו-חודשיים
DESCRIPTION:הצטרפו אלינו ונצעד יחדיו בדרך המדורגת \n\n\n\nמנחה: הנזיר תקצ׳וק \n\n\n\nסבל הסמסרה (כולל ארבע האמיתות) בדגש על התורה הבודהיסטית \n\n\n\nשעות: 18:00-19:30 \n\n\n\nהחל מיום שבת ה- 9.10 ניפגש פעמיים בחודש לתרגול משותף שיתבסס על עמודים מתוך הספר החדש LamRim Year המכיל עצות והסברים מאת לאמה ישה ולאמה זופה רינפוצ'ה ליישום הדהרמה בחיי היום-יום שלנו.  \n\n\n\nבכל מפגש נזכה בהסבר מעמיק שלאחריו נקיים שיחה קבוצתית מחכימה ותרגול מדיטטיבי מתאים. נקנח בכיבוד קל. \n\n\n\nאת המפגשים ינחו לסירוגין הנזיר תקצ׳וק ותומר יצחקי עד לחזרתה של יעל אלטרץ בחודש אוגוסט.  \n\n\n\nמומלץ להירשם על מנת לקבל חומרים במייל . להרשמה נא לחצו כאן. \n\n\n\nפרטים על מיקום מדויק ישלחו לנרשמים/ות. \n\n\n\n הקישור הקבוע שלנו למפגש בזום: \n\n\n\nhttps://us02web.zoom.us/j/86575264733 \n\n\n\nMeeting ID: 865 7526 4733 \n\n\n\nPasscode: 123456
URL:http://shantideva.org.il/event/%d7%9e%d7%a4%d7%92%d7%a9%d7%99-%d7%a1%d7%a0%d7%92%d7%94%d7%94-%d7%93%d7%95-%d7%97%d7%95%d7%93%d7%a9%d7%99%d7%99%d7%9d-7
ATTACH;FMTTYPE=image/jpeg:http://shantideva.org.il/wp-content/uploads/2021/10/img_7494-1-web.jpeg
END:VEVENT
END:VCALENDAR