BEGIN:VCALENDAR
VERSION:2.0
PRODID:-//לימוד ותרגול בודהיזם טיבטי, שנטידווה FPMT ישראל - ECPv5.2.1//NONSGML v1.0//EN
CALSCALE:GREGORIAN
METHOD:PUBLISH
X-WR-CALNAME:לימוד ותרגול בודהיזם טיבטי, שנטידווה FPMT ישראל
X-ORIGINAL-URL:http://shantideva.org.il
X-WR-CALDESC:אירועים ל לימוד ותרגול בודהיזם טיבטי, שנטידווה FPMT ישראל
BEGIN:VTIMEZONE
TZID:Asia/Jerusalem
BEGIN:DAYLIGHT
TZOFFSETFROM:+0200
TZOFFSETTO:+0300
TZNAME:IDT
DTSTART:20220325T000000
END:DAYLIGHT
BEGIN:STANDARD
TZOFFSETFROM:+0300
TZOFFSETTO:+0200
TZNAME:IST
DTSTART:20221029T230000
END:STANDARD
END:VTIMEZONE
BEGIN:VEVENT
DTSTART;TZID=Asia/Jerusalem:20220219T090000
DTEND;TZID=Asia/Jerusalem:20220219T130000
DTSTAMP:20260423T215255
CREATED:20220128T095633Z
LAST-MODIFIED:20220131T182343Z
UID:4031-1645261200-1645275600@shantideva.org.il
SUMMARY:הדרך הנאצלת כפולת השמונה עם גשה טנזין זופה
DESCRIPTION:מורנו היקר גשה טנזין זופה יעניק לנו בנדיבותו שיעור מקוון בנושא הדרך הנאצלת כפולת השמונה. השיעור יועבר בשפה האנגלית.  \n\n\n\nהדרך הנאצלת כפולת השמונה\, שנקראת גם הדרך המתומנת הנאצלת\, מהווה את אחד העקרונות המרכזיים בתורתו של גאוטמה בודהה. זו הדרך שמובילה לסיום הסבל ולהגעה להארה באמצעות פיתוח מוסר\, ריכוז וחוכמה. \n\n\n\nעל מנת שנוכל ללכת בעקבות הדרך הנאצלת כפולת השמונה וליישם אותה כהלכה עלינו להבין אותה היטב. לכולנו יש את הפוטנציאל לתרגל אותה. הוא נמצא בתוכנו. תרגול נכון של כל השלבים מביא עימו שינוי ומקדם אותנו לעבר השחרור מסבל תוך שכלול היכולות והאיכויות המיטיבות שלנו.  \n\n\n\nהדרך מורכבת משמונה שלבי תרגול כאשר כל השמונה כרוכים זה בזה ומתפתחים במקביל. \n\n\n\nשמונת השלבים הינם: השקפה נכונה\, כוונה וחשיבה נכונות\, דיבור נכון\, פעולה נכונה\, אורח חיים נכון (פרנסה נכונה)\, מאמץ נכון\, מודעות נכונה וריכוז נכון. \n\n\n\nהשלבים מחולקים בין שלוש קבוצות: חכמה (פניא)\, מוסר (סילה) וריכוז (סמאדהי). \n\n\n\nהדרך הנאצלת כפולת השמונה מיוצגת לרוב על ידי גלגל הדהרמה\, אשר שמונת חישוריו מסמלים את שמונת המרכיבים של הדרך. \n\n\n\nקישור למפגש הזום יועבר בהמשך. \n\n\n\nלהרשמה
URL:http://shantideva.org.il/event/%d7%94%d7%93%d7%a8%d7%9a-%d7%94%d7%a0%d7%90%d7%a6%d7%9c%d7%aa-%d7%9b%d7%a4%d7%95%d7%9c%d7%aa-%d7%94%d7%a9%d7%9e%d7%95%d7%a0%d7%94
ATTACH;FMTTYPE=image/png:http://shantideva.org.il/wp-content/uploads/2022/01/Screen-Shot-2022-01-28-at-11.55.59.png
END:VEVENT
END:VCALENDAR